Package: ontoProcData Version: 0.99.9904 Command: /home/biocbuild/bbs-3.21-bioc/R/bin/R CMD build --keep-empty-dirs --no-resave-data ontoProcData StartedAt: 2025-10-15 06:02:02 -0400 (Wed, 15 Oct 2025) EndedAt: 2025-10-15 06:02:14 -0400 (Wed, 15 Oct 2025) EllapsedTime: 12.4 seconds RetCode: 0 Status: OK PackageFile: ontoProcData_0.99.9904.tar.gz PackageFileSize: 470.2 KiB