Package: metaboliteIDmapping Version: 0.99.11 Command: /home/biocbuild/bbs-3.22-bioc/R/bin/R CMD build --keep-empty-dirs --no-resave-data metaboliteIDmapping StartedAt: 2025-11-19 05:57:33 -0500 (Wed, 19 Nov 2025) EndedAt: 2025-11-19 05:57:43 -0500 (Wed, 19 Nov 2025) EllapsedTime: 9.8 seconds RetCode: 1 Status: ERROR PackageFile: None PackageFileSize: NA