Package: metaboliteIDmapping Version: 0.99.11 Command: /home/biocbuild/bbs-3.21-bioc/R/bin/R CMD INSTALL metaboliteIDmapping StartedAt: 2025-10-01 06:00:11 -0400 (Wed, 01 Oct 2025) EndedAt: 2025-10-01 06:00:56 -0400 (Wed, 01 Oct 2025) EllapsedTime: 44.6 seconds RetCode: 0 Status: OK