Package: metaboliteIDmapping Version: 0.99.11 Command: /home/biocbuild/bbs-3.21-bioc/R/bin/R CMD build --keep-empty-dirs --no-resave-data metaboliteIDmapping StartedAt: 2025-10-01 06:02:00 -0400 (Wed, 01 Oct 2025) EndedAt: 2025-10-01 06:03:18 -0400 (Wed, 01 Oct 2025) EllapsedTime: 77.6 seconds RetCode: 0 Status: OK PackageFile: metaboliteIDmapping_0.99.11.tar.gz PackageFileSize: 312.4 KiB