Package: hpAnnot Version: 1.1.0 Command: /home/biocbuild/bbs-3.21-bioc/R/bin/R CMD INSTALL hpAnnot StartedAt: 2025-10-08 06:00:08 -0400 (Wed, 08 Oct 2025) EndedAt: 2025-10-08 06:00:11 -0400 (Wed, 08 Oct 2025) EllapsedTime: 3.3 seconds RetCode: 0 Status: OK