Package: hpAnnot Version: 1.1.0 Command: /home/biocbuild/bbs-3.21-bioc/R/bin/R CMD build --keep-empty-dirs --no-resave-data hpAnnot StartedAt: 2025-10-08 06:01:35 -0400 (Wed, 08 Oct 2025) EndedAt: 2025-10-08 06:02:07 -0400 (Wed, 08 Oct 2025) EllapsedTime: 31.4 seconds RetCode: 0 Status: OK PackageFile: hpAnnot_1.1.0.tar.gz PackageFileSize: 228.8 MiB