Package: excluderanges Version: 0.99.10 Command: /home/biocbuild/bbs-3.22-bioc/R/bin/R CMD check --install=check:excluderanges.install-out.txt --library=/home/biocbuild/bbs-3.22-bioc/R/site-library --timings excluderanges_0.99.10.tar.gz StartedAt: 2025-11-05 05:58:55 -0500 (Wed, 05 Nov 2025) EndedAt: 2025-11-05 06:00:30 -0500 (Wed, 05 Nov 2025) EllapsedTime: 94.9 seconds RetCode: 0 Status: OK CheckDir: excluderanges.Rcheck Warnings: 0