Package: alternativeSplicingEvents.hg38 Version: 1.1.0 Command: /home/biocbuild/bbs-3.21-bioc/R/bin/R CMD INSTALL alternativeSplicingEvents.hg38 StartedAt: 2025-10-01 06:00:16 -0400 (Wed, 01 Oct 2025) EndedAt: 2025-10-01 06:00:25 -0400 (Wed, 01 Oct 2025) EllapsedTime: 8.9 seconds RetCode: 0 Status: OK