Package: SomaScan.db Version: 0.99.10 Command: /home/biocbuild/bbs-3.22-bioc/R/bin/R CMD INSTALL SomaScan.db StartedAt: 2025-11-19 05:55:08 -0500 (Wed, 19 Nov 2025) EndedAt: 2025-11-19 05:55:21 -0500 (Wed, 19 Nov 2025) EllapsedTime: 13.1 seconds RetCode: 0 Status: OK