Package: MPO.db Version: 0.99.8 Command: /home/biocbuild/bbs-3.21-bioc/R/bin/R CMD build --keep-empty-dirs --no-resave-data MPO.db StartedAt: 2025-10-15 06:02:01 -0400 (Wed, 15 Oct 2025) EndedAt: 2025-10-15 06:02:43 -0400 (Wed, 15 Oct 2025) EllapsedTime: 42.0 seconds RetCode: 0 Status: OK PackageFile: MPO.db_0.99.8.tar.gz PackageFileSize: 29.95 KiB