Package: JASPAR2024 Version: 0.99.7 Command: /home/biocbuild/bbs-3.21-bioc/R/bin/R CMD build --keep-empty-dirs --no-resave-data JASPAR2024 StartedAt: 2025-10-01 06:02:00 -0400 (Wed, 01 Oct 2025) EndedAt: 2025-10-01 06:02:09 -0400 (Wed, 01 Oct 2025) EllapsedTime: 9.0 seconds RetCode: 0 Status: OK PackageFile: JASPAR2024_0.99.7.tar.gz PackageFileSize: 219.5 KiB