Package: JASPAR2022 Version: 0.99.8 Command: /home/biocbuild/bbs-3.20-bioc/R/bin/R CMD INSTALL JASPAR2022 StartedAt: 2025-01-29 06:30:10 -0500 (Wed, 29 Jan 2025) EndedAt: 2025-01-29 06:30:22 -0500 (Wed, 29 Jan 2025) EllapsedTime: 12.7 seconds RetCode: 0 Status: OK