Package: HPO.db Version: 0.99.2 Command: /home/biocbuild/bbs-3.21-bioc/R/bin/R CMD INSTALL HPO.db StartedAt: 2025-10-15 06:00:09 -0400 (Wed, 15 Oct 2025) EndedAt: 2025-10-15 06:00:22 -0400 (Wed, 15 Oct 2025) EllapsedTime: 12.9 seconds RetCode: 1 Status: ERROR