Package: HPO.db Version: 0.99.2 Command: /home/biocbuild/bbs-3.21-bioc/R/bin/R CMD build --keep-empty-dirs --no-resave-data HPO.db StartedAt: 2025-10-15 06:01:55 -0400 (Wed, 15 Oct 2025) EndedAt: 2025-10-15 06:02:08 -0400 (Wed, 15 Oct 2025) EllapsedTime: 13.6 seconds RetCode: 1 Status: ERROR PackageFile: None PackageFileSize: NA