Package: GenomicState Version: 0.99.16 Command: /home/biocbuild/bbs-3.21-bioc/R/bin/R CMD INSTALL GenomicState StartedAt: 2025-10-15 06:00:21 -0400 (Wed, 15 Oct 2025) EndedAt: 2025-10-15 06:00:55 -0400 (Wed, 15 Oct 2025) EllapsedTime: 34.0 seconds RetCode: 0 Status: OK