Package: GenomicState Version: 0.99.16 Command: /home/biocbuild/bbs-3.21-bioc/R/bin/R CMD build --keep-empty-dirs --no-resave-data GenomicState StartedAt: 2025-10-15 06:01:33 -0400 (Wed, 15 Oct 2025) EndedAt: 2025-10-15 06:03:35 -0400 (Wed, 15 Oct 2025) EllapsedTime: 121.6 seconds RetCode: 0 Status: OK PackageFile: GenomicState_0.99.16.tar.gz PackageFileSize: 921.4 KiB