Package: EpiTxDb.Sc.sacCer3 Version: 0.99.5 Command: /home/biocbuild/bbs-3.21-bioc/R/bin/R CMD INSTALL EpiTxDb.Sc.sacCer3 StartedAt: 2025-10-15 06:00:25 -0400 (Wed, 15 Oct 2025) EndedAt: 2025-10-15 06:01:05 -0400 (Wed, 15 Oct 2025) EllapsedTime: 39.9 seconds RetCode: 0 Status: OK