Package: EpiTxDb.Mm.mm10 Version: 0.99.6 Command: /home/biocbuild/bbs-3.21-bioc/R/bin/R CMD INSTALL EpiTxDb.Mm.mm10 StartedAt: 2025-10-15 06:00:27 -0400 (Wed, 15 Oct 2025) EndedAt: 2025-10-15 06:01:05 -0400 (Wed, 15 Oct 2025) EllapsedTime: 38.7 seconds RetCode: 0 Status: OK