Package: ENCODExplorerData Version: 0.99.5 Command: /home/biocbuild/bbs-3.20-bioc/R/bin/R CMD build --keep-empty-dirs --no-resave-data ENCODExplorerData StartedAt: 2025-02-05 06:31:10 -0500 (Wed, 05 Feb 2025) EndedAt: 2025-02-05 06:31:15 -0500 (Wed, 05 Feb 2025) EllapsedTime: 4.9 seconds RetCode: 0 Status: OK PackageFile: ENCODExplorerData_0.99.5.tar.gz PackageFileSize: 229.6 KiB