Package: BioMartGOGeneSets Version: 0.99.11 Command: /home/biocbuild/bbs-3.22-bioc/R/bin/R CMD check --install=check:BioMartGOGeneSets.install-out.txt --library=/home/biocbuild/bbs-3.22-bioc/R/site-library --timings BioMartGOGeneSets_0.99.11.tar.gz StartedAt: 2025-11-19 06:04:19 -0500 (Wed, 19 Nov 2025) EndedAt: 2025-11-19 06:06:08 -0500 (Wed, 19 Nov 2025) EllapsedTime: 109.4 seconds RetCode: 0 Status: OK CheckDir: BioMartGOGeneSets.Rcheck Warnings: 0