Package: BioMartGOGeneSets Version: 0.99.11 Command: /home/biocbuild/bbs-3.22-bioc/R/bin/R CMD build --keep-empty-dirs --no-resave-data BioMartGOGeneSets StartedAt: 2025-11-19 05:56:27 -0500 (Wed, 19 Nov 2025) EndedAt: 2025-11-19 06:03:08 -0500 (Wed, 19 Nov 2025) EllapsedTime: 400.6 seconds RetCode: 0 Status: OK PackageFile: BioMartGOGeneSets_0.99.11.tar.gz PackageFileSize: 819.1 KiB