Package: AlphaMissense.v2023.hg38 Version: 3.18.2 Command: /home/biocbuild/bbs-3.22-bioc/R/bin/R CMD build --keep-empty-dirs --no-resave-data AlphaMissense.v2023.hg38 StartedAt: 2025-11-05 05:56:15 -0500 (Wed, 05 Nov 2025) EndedAt: 2025-11-05 05:57:08 -0500 (Wed, 05 Nov 2025) EllapsedTime: 52.5 seconds RetCode: 0 Status: OK PackageFile: AlphaMissense.v2023.hg38_3.18.2.tar.gz PackageFileSize: 299.9 KiB