Package: AlphaMissense.v2023.hg19 Version: 3.18.2 Command: /home/biocbuild/bbs-3.22-bioc/R/bin/R CMD check --install=check:AlphaMissense.v2023.hg19.install-out.txt --library=/home/biocbuild/bbs-3.22-bioc/R/site-library --timings AlphaMissense.v2023.hg19_3.18.2.tar.gz StartedAt: 2025-11-05 05:58:44 -0500 (Wed, 05 Nov 2025) EndedAt: 2025-11-05 06:00:21 -0500 (Wed, 05 Nov 2025) EllapsedTime: 96.9 seconds RetCode: 0 Status: OK CheckDir: AlphaMissense.v2023.hg19.Rcheck Warnings: 0