Package: AlphaMissense.v2023.hg19 Version: 3.18.2 Command: /home/biocbuild/bbs-3.21-bioc/R/bin/R CMD INSTALL AlphaMissense.v2023.hg19 StartedAt: 2025-10-01 06:00:16 -0400 (Wed, 01 Oct 2025) EndedAt: 2025-10-01 06:00:33 -0400 (Wed, 01 Oct 2025) EllapsedTime: 17.6 seconds RetCode: 0 Status: OK