Package: AHPathbankDbs Version: 0.99.5 Command: /home/biocbuild/bbs-3.22-bioc/R/bin/R CMD INSTALL AHPathbankDbs StartedAt: 2025-11-26 05:55:12 -0500 (Wed, 26 Nov 2025) EndedAt: 2025-11-26 05:55:23 -0500 (Wed, 26 Nov 2025) EllapsedTime: 11.7 seconds RetCode: 0 Status: OK