@S[}Ϛ}Ԓ%FIcdłP,P1ݢvb!v c#w6O;!{O~9G " A{&"HT*dI%V$=ŒjA="ɜhAփߵW$K" XaR]MھI$(ù`ʼnx|8&/G6 T3$ >d"hkIqkpwqO_kei`7 俕%7$޴f77Sc^3S=%.qK_.w +8iD\TyjxLϾG>m,|7ǦY}ڷJӢ &6c<8f {ލ3 FM±ϗxW0PVɧ![ o'' {Jg$5BaXJIv]5Ɗz8k'#f$/Cw3;%ݞ72g:dd.qmˍW`3۹sg}]Z?%&̠r ~%13hU%TSJ}[Օwҷ;j"Sl%9 mS /ԅ%#x-q’Q&tjۖΘ%.%%-Zw.f6;Ÿ[wzaY$sͣ Kr(GV˰xs(̻sh;_ܼn_*ImC?8: ȴbǬ!.L8i\{ã >5yz~43 AgZN9bG|g wO`g܏u0a`Npiۄ%Qy錹=˭Bz~ѹS0\>܌jO~C)6d|+K_}[p&>jz$L1&>vbysgcG?Hwe܋:-~kdvnؔXoߛo/K;uI3+:nϾ'{Xyᒍ*oxۓwqh3ODӋ}op襅;U,ӭ';Ӻ˷lr!q_Ec7zػkW+PhgW)dه+4o9qϖa ygd,YPZzKU`ƜW?߆K]wb+:'vya{Q߲~um~fOटec*5/VMy'~0MɁLϗ/^a6ԒA}O _R3rqFiJC789wE vdEKw?36xΧ(]1;;̽V~R)3*I~_ ^|`QBBz#J9s.:H}ikOzBv.ɔ>d{o0z,q%V` 3WG Yg?*ll>' d  {۷&[lkkKiVtnJmȧ1MLw4\p<¨]z~ݱ7^N 5\AťqEx.f4.ɟ?"OғCb}^-Ni]R/&B||C%]T!̼{.2lɹ{?fΞshi{lhu XM?tF3G(&vDNyury<9'm8(yrӧw9jSW\HY9GN %11Xs% oࣟ&5x s(ӑ&[,(7ǰm#Ŵsoy6'o0yթOқ2a7e-=]=TH>+akM {L{'Af>dInL*}g).]x-=lMKys/Nh^,3G{^~.Sξ 5!k.[5ן}an=6+.mn;::͚SL|K9A@iO_w^i{u2wN-~yWT56I K?g\9. v,\:0|+ZWZ>d'Z^.ir՝9S;x=?]yg᭎|6~|t(yQѭAr&`ǭhƌ9Njވ]>vv(he붭v?܉?495~]ߍd&ҩ})VOwŹyիW'6ank2ۣEgKy}dbU+}xw[1cm>?cRK 16=b`Kɑc'{Axi{fGgW{ne϶K]ȭͤ́r5 /\-)5 l.8=SGEn2njwtw]L3"~)0Ww]nz%Yo[{7n^gG7jwqϘ5/qp7 " wnKv1r:d[5CGg=ͤ+Nr͇8Ih}q+cNԁGwssM) crf۾NmcOQwɎWNQ4nf9#S cu+wWq~uXByD5B0Z wxUSfɋ(^/nM27ΖѴYZעcqf*Fxq[ڏN{v77 ؘxB^Y!787:$nc=_lFd~jŻIl۴^:kn%tnLbl>8 -@1k"^x˔j}m|:نL]fǣGo pzI|1aeƕ[^߰fzQ/]0tQVN8vLֳ\1o]6߼j\}\ֵ/]m}œf*cn`$yN~bn'^::?wyЗg= 5¶?i\\&yS/ЂOǰ'd뵹awe~}1Kw2H"W1 2MY88yr;'rv37;оK/f333W'%S{9"!gJΰykSZos}k|Gь!݊W>~~k &0uޢm>w[ #gs) 3\֗wj#Ә!CZeZQ3Qfߎ޽)|Ed\1>cѨn\ST4~WМ''M?eޕ~')GMz~ ׃XKɭ_D%>hKt iO߃'074h m7vIxϲ[7Ƅؤ1w# C^qAS^.~o`xno|_a˨̻cr}qH଑ԕM7k] ?}ɛVv1VmFdL92wT5w/)'rE6‹/GmYrмv$]Sd´OF7z>*sZ^0bV@g'].xۘPܛ۴otSfiy{g7ȸ{\=wF>}e*}&1-g2L0|`t鞦 mN !:thM37}|&O”Jg,l vO }yC'7jݼyZsQڢ?}$nދo/DuM.pD[oezHCLؖuX`EK{ڌm{2CO:a Lq[Fu]/{{iOe𾘀1;43})//i&9$n9o܏33˦ۻ{w.I>coeӯ0}y&ƌޏ|+sWNif~Yb>-]Tztw0e&f-,~fz{%G]r!3/h(\g>Joon&o6-K}ћo/Gض`%ywd\8i$T̠˟t#nIVbJޗ +jaas?FB~J^ #/*Գ/["zb9}3mLi nyyqzu^| '8匣^OO]vͿqٳf{7kw]R r#?q=,x:q$\ w-ŇutBǢq]Ƿ=Sbhz[g_YقH0o?urЉj$_8lɦsq&^(yXrVЗbaϲKm(wJ,]Xt=***+qq>..?E-vGuve- Y=:Gޭ[=X&ƂX2-RַZ?(O&YɺHv}\|h aqPsgE' /H8>K |6R"Xs@AdƳ%lEstiRGK91Xg_%8x!X'{BHH K]qVH^4' J p  '2Ǔrv9RD~UvHoGUA qbI<G° Ep{,OgXH:-+ 3~F3cb#zRc4(bGe r9y l{,rFƶh";ˌHڑcc9lI D"BaLVTH m4 TaO?.H'q ą%fs6Ug " *8l6Fps IScGp#w? bGrĠw0C01%y$T# >J$BF"^ahc<&6hE9D.KL z厾e(t" ab-] @L (EZEH˅ٲ¨'*?.'5Wm0~eX$ +`$9qI Ȟ'qV!#OSp$"Μd,{~c8\X \^'̌X}t@|K KQຳKUI8`581+HC@$ig.1@)&?bx q|!f9H CxAF0>O*CqV(@߰xhm'`q,X(Az0g bŠ'lț RL%8ѫ0SG,Ae+ AV "a&xp0ya D|4#4 pDԜT9KD V"˳2d"~!$,!эqdDҞ eF>=BͅY`r"RMWIdux6MV4"O*X2\ $OtT$)Q]^byڈБ $< dbUiRd6L4R6HCVhX.w=Hk{Iٱ X`V1F_ #h\2b:*+Y6 (grJ#r#g`ᑿ@VHr*-Fp$!Rn!Ha 3S|%PyL(#L1Acfԅ0 "kEsdBCNՃwxIm,,ILՇfl-G} ҆j]ub_}Y#GV#xLb$6-fU~e*}3'! $'F@Iwsc*R% •( UW `iM?P#@( (A8QzxD !^#!R J$ɉAJ8\1.Wd Ջ:ȅj]fȐQ"봊hecN1Vkd^! _ Yֵ:0B1`XBD`"tX,`sW3S tݐezft\չpDZP*ZzIM "c]TR+-i 2TQPѥ|DT1y`j<߉]`a02A5C"BAF|ȰoҶ2 (,4x<Pb+Q]x"4hϒ8E+ZG"Q5W79rjZ\گ":ǟsĎ?wWr;ԼiXt6< CV#vX2ֹe\X 9ktL*6҂ G</ڨO$R ITk1E4[iޱjR*i<&kqa4l 16|1G;ZU&2FpH0[QjE>"H+ 0Ih.AG+(1UQ7b*eB͸pE] t0 &bF_ +WRsL׀G~ @U dԾ &ׇ9s_ 7DS(k;&{aGPh*'MT#OH_jmTs*_:`7 Kwnnno \;ݹ*\muyuyuyu?wj[9t{릇֝MkCi=ظk^a-9WQMuUsV^g}ր ˁⅵ˟su;ʪNL?Lw 7HUuzQ*?HTIW<:`OsP<:/Gupx:Uu>`ݫsְϾ.6Wugv_v_v_׼vC<)ɮwgkKlqJԝ Imڶo c|8#DW= r3 # F##c"ҴTKC@Da0'Gb|,G "xPMY[Mͫ q(c9,VIj@9,P[ՆW|$V@!@7a  DQ@;o1x7Em݂w!h5<9'-<q0@v,X];lѼMjO_(S?D"R5no|]8Ͽ7<0*V 5頻[UfٕnU_xu E8"_dU]R$\Us3yn 3vHLRG^\(rU9+k2wb4mhpD1J++oC̻N*~_ 5o$fEɆ kpBQO@.x(4>]*BW"S}W%R{| ՗ 1YiҘhlH"${K 6!KN$k̦Z $KVɽǔϋ+h1.VR0*K+$L=-[(}2Bp,6 ~ =ɣ%s:k#bW#;M WwQ_V맨;h,Q P2VuDL*SQU*r+ԓqB.PyfF!hUGB4́R!Xl$!XcqF1}հ&mNLvI "n;6M'-w~q, ux1NaQO9p6%")zPwTD$DX _c+[|4Ȭ8ϊ㷜oBYb*3w$J YL@#ըYj38YqU3JC@O(_Pn Ь).j: NI[` J+BG JnպWi!A8*Z6OcZ-d>Z>s+gGXPA|m5B*[,VBf,.ͥzm-)HX"VkEV<0WrC,pM#g826 * $ȑ1Hq(ByaR#U(f2L_Q|{ y'5*E92j0ɰHF2%j?Djp9rW6>"Hx PӬw>Ej.h6/4ƨcx0ëG1df :Kz{>c*`O*O VD,6ksG#%Y+,ǛR-I~k5}6jJ178ܜ;!ү~+d皏U=Us>:fwjGz^ycUxRc8Vu*luVeh+T3C5+EkV`Q2~\_r8.+\_YmN2]a<@0EdX[W]cc 8+O%r\Q|ΉP9X!sH偎RdH7ST9]d&h[Pav*cSRU%sVtUM>W/G7Z^\%CLe< rRQ@UL1rG4 %z( \L+)5Ϫ=9O~]" [xSFTnR;IV3d7qR<g0!#gcSC"pI,CWAУy > /cp$X==s - hH b<G"_ ( |I-z* b@y>J^ș0>4rC#9ˑ /Ǩ_B:*T! u2%l{MMIՖUztA&*DґHZCzR'TTb篤L:J&LQ:P)dJ}(R%kuQ )ٲlYJ:J(ٓì~i@.ӘU@ Q'-ZL/.K/D4AF2󱬐%N68i,lA9q$Pwm% 'fC<6đ9A͏g#&Dsj@Nް'-9e>%OS cD< 9s E@" O¸Lr@ 4bsD0rRkM=\( @*dG&!OA$Eɕ)20f(fAr,wTQ_)Lx 38\$K8G‡b z,r"H( V D<ٱ?4Ķ/v@+ceVy Slv O2 \c)1cqrr xRJ~ t7w`Hy<(`:EY"䦤0.=_y) $9h+=C6ByYF‰!ّkE/t891R +&) CxabLeEڻÐᗣD!+ƜdcNBku-V0۟ÃGDR+Zhc0#IdI$[4&iE^;*D!{%SdO*KB-Fvy05ILJνs3j&:;%՟]}AX8ڌ#R>/Lc}9,qUD~p )0Фw`0HOl!3+`?S1]Lv rK]Ⱍ+m@J7LD ]9+h=GN#H`njQ+wC7bwļ_:MI0cei/} $(ۄ# !AAO ,>9` ̗0 aC=@  p _!?K_F`2?cdJ-3TsJh9F"!QZ<Ie+3"IxљY# `fv MX@砛17U8 1tcO +=}Š&;2A7,xS@?A{id@S?F!wJhCV&D1DcmXKø$aI +^HXۀ́\yOo& NZYff@^U֠_ g[Xu>q @T7ٌ š`gGY/Ňꀦ H@h>_[I)+=VfZ&`XN+H @K> iG?~ƆZʀ9Lp 4: 4_BOo;VD?F5Vc!?e$Vu|ɒBGc0+>1<V^ V `})=c$X/I##4Z 0ץyeHُHtH$ x QUpSsx+Aɖ?? v'%II&ݷǐ4B)q +j?zBhb?߄x_ SBMMʣ]|@c_7kXHdcMod>;8xl`$9xzmK# F}UX;?x>zA}C\fOqZXЪҚFC6c~OVJ03~ɟ ?iX⿦~!!!$iJB B <D/BO=aWa'Ș|@|_̗v_ 1dXw>5Rf9eA榆FaTR1'EK07%ql^ |:3+g s Uܴ!\6Zlel|N6mzZ=Pgš W{#1a[1KgXug+fһE \*rA'!N5-z&ttjyI`z| EڧzWU އ_jqմwc[۽yil/,dw Eꥸ9zݧ_V_tr@ǼMNPGaIG5윤XN}$lsBB^H(>9^E'_shVN2[?>wܞi=WnT*B=)N Fo`VsTfDrX[0ZΉa]),ik`k>2ZSkwUͪ \CtGE5t-ً%wD5v޼y[V);_;!޳zu%l91vv_㔚0`F+gngB&+;dТyو*V YCIjwRhHR޿ҟP1s℻X\JF1k4*#sy9GoPz{WJ[7s䰰0}!prswnoG)))e>7tln˵@S@6׀^*M\ǵf eyaag +DyZ1nb$*dPlhUi?܏0;aFfK\ŒD;3۷UA?ɂ+_T`*(Y~WB)HB?c_3{4X֎L$goo:T-5&uY,.(Ԛ֡rmZ[P U6[!ڪ=½MC*>?Wfu6ݻvK60~1h5[v3ӆpE-K{Yo4Bse5_Zal>5=0d :R@b3iN-qI݁~DVj%J%O 9mT;μ׽Q"/[띶&_aާ.Ŧ5w=\f88鮀z򊡮joK#9J@ld M˜tM>>%%P ۉkoL 6bVz2sVoo/%T%Cr{-ň?yZimd*Ũ): m|3J}6-|z |}]5Y-e@B0;UےB--\_ϭrygM@BࠠV&E#ggg'gE5 *UIi)Rju)a)I~|jߠ]w?kۋۯūkYgz/52qNLԭdVDX7}W񘿓6^Q}#cbFPGY-mmxpZ!3O \͇oO]̨)pJc_=U=/2Q[cH93oz_Vw|^I2N5\XPݷsկ42o@i v.Z/ջ 4z3]uܣ|VD+蚚%1囋Ng]7/;Kګ+[yZͦ+_|VQ~kɄU{daomn {bH[䷼,)$cSYG>wȣ+u⎨r-:2)"y2x7ekUd>UhN!Mn ~[[z.,9PCC:7Vx%,qw}w߻²Ie8Mu1xE VJ^7s6,'K᯽D 9L08EaťA:VUf?N&grUՄOmVQ?ʵy3k?%Y~)⢹E]Y禵478 d_`4^k=[$8;5)K@ /7gۦDJj~RnnCrXU+NiUWBNcZŹ5j,J|辺!} Wskr.qTKηjAQZ^K-*Vlpy7]Sv+*Lƿ)!40@&uUm񘄄]]]n ,[9#88w?;dk Azf -ReA ( %PJf&QtdA.`˺w-]9$e߼̼3sy9ga#}Jkܾˢra§.+xJ11 ^/J%"{ݜx3{cꔺt74Nr%XٚO舆Zƣ%vMK:*}@KfZBq~fa~s /d`5㲲D[X-.y{{Jڒ/XpEKBE 碘b=1G]Ֆm₸+*:Q!03ֵMƣNZf˜]S.k~uH>3fK)jP1ٙ6 ~;:l'+gL2RLcB9^UVu!6El̏ISr( m"!Q4VLcZ EbV#:J3~_CNN7_g-eOW$m ̬D0In˼@!qyz%#)2_P+: ʚm/P~\3h7f Z@'`dy1 Q)QOwLuj(K@K1 y2I;Y!·} g^lS<&6L<=.=\*y㼼=|!EBL_2)V9>б;mpځAxvmo W ?WPJqT =ϕ[G4aviI[oq"$ntktɷ-cRJN!MS욒aqZsmy55k-!?I_݌x8au]F輩6{c#D`n;:b3wBٟQP j=b[SHD\DՃ2C<-oQר 5԰?Pr4o0 L] I1 qUGCea=:/pvOȵP3q fTzo(k"%ht֍@df{i=9d?R>fLun4>)8.Bjѿm H0lė\v2/w]4TK:T0hQsIe@"\ueJ,(RwK$Y+ 4+".7mo~x߶:2 =~/ڹЦeuz@M9=Ǟ@Z&csi,yH 6M1rU^7]eaE5T"if wY1v恶1":j񕝻Um)buOgW L$ e=ZW!cklÓ(OyC/GW]O@ڬ[=}ts-(۵ ^uOX_Ylq +Tddd`h| )t-``Z0C$F#k;=#_DB'M\Ί?gdd<γ2Nl>WSnJmmϾ5Z"T50M' wb9 ¯I;(rv1/YHqu4}I-*VG/DH$sZ\<ߎVdܟtW~LhYBiKtznq+bGQ5 444<<ؼS*:xOƾb^:YAFcA:J SM7pJu~0Qrq\\mg:ăzHܽRg5+>ʞd륚fh9|)63VԦfs#){G$,=8{n-݋dwS6ڗ!P iG[]:ۓg^o,eࣣ Jfp(n9ӿd$hؚfgRjXxi8̬{DY}MS#,pCLMzn>HcT/Ǜ-0TlAڻx j<}AlnгrqY#¼Æ+ \ fA9kx'>Zc9+C)˼ *"I#h@R/̄\ݓiJa_V9KA驶.Sˡ.]iyO ɷ^[< W5,TU[qH.^[:d6h^U#좘V] 1q8Z惫8`SP A 냞%nFb6pI^zek#}@>gt%ctR9ֱ Mjw33;6F֑f؇m:^pJy7q~N"d.?  jgM/uK׺J>@4z]23}f[mX"y7N˥9? )[ \88;:|@9{x5L7af3ZN;wY Bc/ϊg7@SMxq1yWsHT" ȐhTjsS4wZڝߊcNbqk}C5;([Ϥ =:+k Eb'SRRusZh$pñ+nԊ?Ut^=Bs n%- 6k++;*HxIwYi(Jv |WQo-G 9!a^TYWHsi2UI)nXna(Y5XSҋ|AGMeހt4 4X} UUs~o/*&}~<s|OeDMapd2%_2z_ g~7q~/_ $WE~ n6TT앾9WYUV%Gߧ~M0JfeB? ,|xпÃ[oL6{_?' ŸJlaF5)G}d'IA6Lk̨}|yooyo ۍX<‚~ =iۿ7v?.xfwQxlZ6N-+,6Ⱦ`%?Y'c S #d; /ro/t. .2]v'd b2._((0&ɾel|{|9GQV&w㿡I_VVARYro"`7AͣL 6>$ v &A6V^&PI7xjR_a'_II^ 7tH:ϗXr M+[~7u pg) \mQA765]\vGu{E$. 7jqd`ܴ?Wmn.ܻuTTbW{F\r d{}>_C2HVdڿ*`/pwEjStU{7PlEV6=K(V΢qA!B@IPc)$c)>AQUhx'1/TTR(7FH'(dJS9~qJ:/ ol``8]l88yNxY% Q<`>S~?VO 1[8"9+hݼҒye(42M_&'0W$/ L=g{υL;/iw̴$LL=X;mO%wMs"ۂȦjl4 kX0dhՎĬkDn-5|LW(   ݀0t.n__~M ;{wB߲)jW=6_Pϔ#_'b-Zec2hQ뗍Bk8s_#n-Y1w;$zA_fJCg}qef+5?8fQtI D!@K1ҭ D!) FVN@z` 66! $Uoi!>nԶB|4것A BYo-[JKQdP~/;\m͡x_Y$?wt`/MbИ>C [l<ٹ 0p[\m2!&~$n` 1Z@&c$ dȅrTF5%@˪7ʸO`_G >- ?Gǁ-A?$=GāeEpH:B7Ɓ5'R`E^m;"?>pwE<30$_D ^;Ω#(a4m6qburVΥk,iq(U~$\^DէGn1&hTD3AIZ\>QkԤDD;ȕr<+ rNX"1+@H1הw ,6A|ˠ5CNy~τ~TQXjQB@4HBM8XigTLK@#p<'8U5Uh4X,Qc(8a*G8T&^NDˢ"3'~VcI`K&EqDx.-S*#1᷉{] 5EԈoSֻO`x X`JrQYPK,U/rQQ~CJZVDy_'p)\44.S^y^,41S^y^A hhX|r[ݢ 4 }753yf6BX > bȜ?!3 'j2UYa(S%j2U;?RQgX9Ts,>kƇ FfSQ0&%G)KFn<^  @@RcaLYj,P!8Rc K&KeybLSX-:>fTP#<Zt@D 50LtA`֪4|s^l$\[z2>UNoȣ +ùEp.Ĺ6:7i.*DVN+J@PSf22s rf&cn1Cnd[/ds <;舨zLs~Jb1~.sYYY|fER\<*F&;Zʉ@ O=o)P4C*S'hO ^# <|&Kҷc:=8IԨzm8/:MNOhyRJMPVm<٩ԄD.֑"r=i!HV/.J6@r*0 t\M^ ! U9 jt:<uK"Y#u|qgN''hiJ|C|qڣ(l]{FN+4 I1*ʴCmH^}#; :㧀^;!SjS/w?o-Y(CK!;Q )@kKU"-Z e [L3KT$(diJţMMUfhyZZṘdC pZ5dN{ҠY:pƒ"NcZh|L82e,De|s\ *rcr\d1p mn|ޕi ct)a+ސMѓAL$Tnӽq$*({(")2 Om_:-5pn5iI83p"^NU2 = w0 @ȉ^Xt(+2fKޚxdqA ~SܗLpcgy[G!"ӂ .-r9xd^Jr[t H0 ]@<>6e +?2pP}.Z,# u@pO᠜r^0@z_e^fv- *[E]:3Qgx&tpCYf\hV3F'0c Xokʧȋd֬8ÁީmA A +m ~-\tLB@|y"@$lGimA l!YhC~6& )n_xYu P) j'A Q #څԂbI\}""#ƒnќdJ-2Դ8%cGyaUb4yloftnt/U0p&@:-首 P:jU!\mxA#AS(sizR RKݧfKt0^XFCT*9 '+=B/e/.9xJ`+Là4t )kNcmgr مV&IXh$P8 JZ>1Z$)3ĴK?Rut^ʼnCQIwTBs~Ri00j ;A`;ftG찘nmb6 Ę=¯u(h1!hbe dB" ]زaG%/!>װ 3Gp Q+jSC1 lNdh"T2RGyQ\6 V&HIVښ8MvmՉr*ջ+Z+'wu8Bjp.?OԛDzע#pwiIdXut+WA[ [ }:EFEo ̈YӛpCL?p;L*m\#IMI! ;Rӿ%b "qb[L`o(D@Y)q~y!B'qCru:7M MS SbFNT$i\|'8M'KE on5:0pF˴ōP6%t$]Xbj$sIuO1,Ul`'Eb)0>K"DRY4)"DQr"| ͺ 9(*abŞyc)TyBF߂#p&u\/6N)Sqa=߀8x"S*?$D_\i9DKF[7<`XйdU;cK$ƄpwErgеټ*lg wq[ũ$Nf?>.I6+_%=r{ufΐ6K۸KNT(+JdW&lJ6mfMԦd5)>> ?ӥϟMۈ^k% < e MS:u6ЕrC2ڀW=6o;WP SwoSi-Z[ mc\E1o6ļYgWϛFe5k8WK 3P$:Z,:B²B S!t*Tho86mSR-HdŐ @h< cK\ 阤jGi>2Tm]Oeܹ!$sOtx}'E1o?$/:)F{ ?caLunFr[.6l@l#$\tCN!F\Eo!4 a0ܹdK_8HPqIqǾXLS$P%(kq0r"vx}UE;)R$?K&"2=5ǰRA]phk j`zb1톍bX`f&8tia|W$[a1v;n5XM 1TW$J_b<^>Ω#6mPFz``Ezp'=H=6_,2E+-?6uJt+ePchUP)&r^,EB!Oh`s("sHh\w C)߰ L?ֈ+)ەa&Tb`0ݡa+:S}I?_l %pwErgɼIB;;(DŶwbܹA);K`b/.I63_%=n{uF{ΐ6KPڽwH"0%h$e;Mَd&0#i H#3?ݏHXd+.I^K@_ ݀pw>>4C;kB_ ]:ԥM@WtA'OڱP:2kQJh\Z- l-g&k̾e>˽ھ4Rio1+XO9Tr/a80Tܨl /Js 6O(1AQ?W$/ /B"`9Fi# @B"ad V"nCZwC b4wQ, g՟NV]v>AZ_ kk%D)Y@K{ OM\fӭޗkM&ρ|zu o_{DFTR,QB=; H_rwi&'s-jeq _ϏU󅌩4:n%*~.OZV;-w :{a.V%hY6"iuW^~ܞq ْ,8Ks~o;Z(=вbˈ5Lv.d^|v]g:tA'Wu۟nXٲJ+Or`ޤ륝pWCFIftx >+LWu +X]ۻGs:Op` x# ߿?{eꢵ=|OY~/&TJEc/^kSi\ivZj?Hm.[lUu݌+涙stoYouTfq}zʛk<)H\j?O=<]v6{l *RN9i+ j;6ZmǓ=귨?>B){4orOzqnjMoht-2H &'v?;z/mY8-Jlꝍ7\5ͼMԠfdGqcT3'S?}Uy#pwlyʞڞf. nb™w>e_ -3Xѽ>"#2+W3GTw[7L|OR kUs}?y gYٴ6^TotǚgL5e*XErr;5Ù֒ 5 F&dō[u#t$*ofג'O4]wsb_j/C{Z+O䷽1fo '(qɋ]BSz=s&}6ocF ]]vݯE$f/q5ԙܷ}2~Jɻu߻Rxzނm z,:.6J7'جm3MyR.#35|W㗄ۨf7i~m昷 WM[ 'cݿ~|^]%vy/>M.<ԋyv%׳f_VP^r3Urunս/!)):l'ͺz'NMqujL|gly' mG~w~+FӪρn"{^ۆrivb$o4{ž 8}!i=NW&]iNOϼ9~WnL\]L:͔w+Z㰰kc;0~FΊLӉ"3."=GչCԒ\:Xt72fa#/,,9ٕ47t/-`N.S%f.ݺ[$Or<|0Ӟ٫\ͯ nj6ug6qN;?p!WOj~`.ӧf7 ?~w`rݚsV%hl{rŊՍ^#z9fSj25ڴ}>ϱ'5;Ǫn=b㯾t iܽ>OiujJoa^7HU ylRs;utrXUp3垂MMjg}/6xY2\5a缣&5Y }c ڜqceDoa޽ vsmj՝~aTnw'Ż7nVJqg"ǿ|u L۟[P>ҥGHm Gc{Ȫ#VRSavKE!/u˾b#}@Д}Uk]{ŖyYW69buQn֬Y}*e:1L{^]wbW"Y)Uxxsw.l`6&7Q5d~Eʝ'lFF>}^i='4<{BX{Áa-hFiY ?l- ƅUɿmV7ute{An&i6[aQͽ3W\>Fn7h?euN?šگK≁\Ԯ}y]j֮':nշI kG|H̖1}Uk%ׇ/ug}}g̎H _-Oiտm2]yo7^c-tӍ*k+ s>?=E\j{:3U#oZqoy'_? }Kofia'o{{OfV|vr;7+jl|~ЛLث0{P#(׬ljEp}jծ}M >}SG|W=T}wX~;O)mnyzǫYM^*<9orܡ{7"9O4/yemOzrߍRuod)*|$QӇ^Qj/VYm攅icFO|?VVk#Ueެl 9 |5g\mO}ZeÚ/OG+DGW]?Q ?6mU^Vy56Mݣ3w]?mZS[qޠo~o}Uytן^_0(9Ԧf{j1mO. |+dQOWmT= fVܮo<=O`M~ԾQwEW惞\ǾcPc[:?Oٮ eرT&k87jP^gr6ڳv{Kv5In)Z23j؎su\|׽F%Pִ()IY2I-KaPcfafrҢҎHl%⦢+$ PJUia^゚Oj9<9Ykg %M(}(spКNtۤq/`YMA6U\ݨb'dSZu^0/~H#N^F#_ dV{CևE$zՅqK]qj"gS3rڃ rPժj6n!,uwVqS( G?OE'YtG1zk-+Mdkka(TFobBM yLXiձ<D0;Þ9Uf}1S\ U+A`ӽnjgvZ5gVqjD j-v.[VJy2~gș,ELT_$Z"Ըý41,;&#UwYaCꉻDMꏵM{зeվ[iNK0"U oae{U YV)ߙ o`ony!nVUx_/$j8XzK_[$ !o!/r(lB5rw_U%QhL :K$pll 3bE 6GM:/sqޚ[ڄU:+ݒS0UQOOx( (jWUhG7_Hܭ>NebyIEOTݫ _Wlbe7̖Gyk}p;ZwR¦X[x%E)d{{Ã[SnpPJ8xI.u'r;r]ZWlw\إb1ur|ne/]iҹuIxacAZ=]ZUfJ̀,㲂gj_!{&4}њ\}9w?UZlU։q'Fs=rjY³ 7_l=M9˙mwjQ; 2ifd$:'^|uOz[v__N|^#1iIrgz۶#,*wf?h1/8pZ97Ų g1];$W=PΚ#/guR᮱Ba ;Wl%TG,ܼc%({f;9\S5`6Q⛾ ]&.5d>l$4}K4ܓ0|v#cbbިmmz6m*ѩOgfZTמ*y9˜0R}Ve?hsOCӱۋ~8n_MEv }Wçd)hR[+;JJJ˪} h/sI|KrD? \O?rnB ;[ןwEKgޖK|"ucAAF%ݲ+A'%g|;RJ:;"Ȩ=Y:u :< oQWj&U,"sW#`~.pɫ=`m6iSmY)/hhϓ |ͿKy-qꈻ9[Ljp YWW?/wyz=TODjN"5k`mZ,u N/Qx׬3W푍9T'~w6Y:IҷeZj۰'^qPwe&`9\>K }UXXXe{qco!";yQN")5I>0)lL=3Zi| X|?-U_: YycbrfIL:knš',-^qZCUW=tpE@ Dz\;s'SyL PY-pߕ/7&o.M=aa @xsrDq>:,oOM-f1r/ЭNׁa/'.>xy,o'mEϮa;rCu':2rK4u\D{r-I;擻Eg.I>'4{¢'y!#d7݉E n=w>bD[D,r{G~ܩfC:f&hr95;w5בMbLH,Hm*-GZE[˺]:[u\\voSF5hZ9亗´N׳(~Q|gW͝.Q%% 4Xu՗b^ߎ?As\~l}8/2>'2¯luOc)r[@e&ql_xg2RiGnnnh86h\iSLt6urtWnrBݕX~YYqWP,&䍼ͅ*tvy~ũsΐn,\\x|jEl{ }C@*\HOJ-&ץz~31^ Iˎ !P&jMKiBV45l#%ܳi˦DjmW6I7$Uz_(;3WEX)1'⍦$!.~,yV=,mI5Ja/.GxTv蘒EsHdbDc,2ե.~!Zp=x45=gP vy`t}[C[W@yݑge䁿YXscswf3bKHhTPaDy'\9:-dޕ'Ae$9)Ѐϓ~Ӛ.ůZڈѽrgIF~--+ﻞLܒ*Yo--Gj/_},iP)aڈǙ2 _/Fj"zHp۷oSOޏW7l-zlӵW2+^idX:^^𹣆3jmggrpz!{Du˽XDbfǜz yJc?BBBœRRS1%85u~Z&;quhuƝI w_m60u±|XrwI9{#|u]a)ҫƿZ^N]F;]ӓR ؝]C3f_ekV h_EkULL5uP:Mu}IMWrg42}uUw[bkca$ō:ԷJT^Cj)m:\:C+SCAdo<@]ߊd:08`ǵҪ–{ofxۘ-J*u0z-iO35 XC&',ЎI~8-Q{)dcc0w&j-;J)Y>dRkr墄:-y&z#NNSk؞Sunk ?oE&牸)#RRѯ[ZO}$ |VL~{NgSg^^iaxqLqV1yVsfypqqQ,Ȋv!RﶜkA!jЯ߫J"1nV-ޫ*ERoTcv\&\B=i|[v"M8QPt0"6~kFpH"JܥS%XH.Y˺Ց|Bb- K: g}tc 7${ɘu.ֳo/g PchD(iz%pSLIOV+ 0Nt(\f&{#F{y0h Sd;^se3u8xJ{Sm仮6,@aNu/T"Ldؼd3K~4@j:,*O+nh" Wi}uк\Nyd%/ /|’+tڌc#_h_A^,Եh}Z_|D-X녤[!#0>X\߅V<۰aǏ]3ujȣ$UixDIɯgPPh,ޔY(f$ DM:,iNUU.K.̉nxƍCI\A]vK=Czșo}~QQQA(qIZڥKȿ06eɅmq[3U=-ڔ-|MU6=x{VdͬWLL<|pVj|v$ ^|7RtʮE:8 PU4mCAqi+4tLMuɀ,=Z` /z,LF@M)TT'N<߶*{Z@RSw2}"Bg?_j:} fWdK$.Eza5f[F\?/8楠iMp ֯_#TІUqtpY Z DeFMjL}}B IY 2 B*EV0"GWvJԐW?YG:5N2u=ȋ~rXŸVkw5 Ψ y[f\wq/P,y6v5V׃ uڑSw* [,F6ʕ+Tw2gn,80VQiY&җT?4vPɓTzNKZ'y=3#>(K] 5`wDR:5@o;n܋CJ=sF"?N _EVJ GyphBd5dvYF eBQʼSq:bv|v{:TꍿYhmIIIȋtm,X3 ):V&ziw~o`p Qy;SS9+Vt5)ڠkjq;]8/$;ڮ>i7N~WݶTq2ѶϦ.S)O5^ Q -ZV=Z$6RxFc7:/ SSv֕.%OGӧb77|466NX3.{z$NFN8GSc?73B jhlyzLI4s{/Ith"}!̰X;P/B($x O(?1v&FCjAt0$'t8 m2< PxѺo 5/ :9"A\ơ),<͟J / t9^ ϛb  U@G L%a'%@A;"9f?Zzڃm=mxspPUǯ`t+k 5Dd "$[<֋ Q=G8ž%"dیJibI&~A*1 .$b"Zkz1]Gd`!\ dv'SFbO^6PG<= ^U ^˒ZBARK?-K(=OO]]6HUOq004071šzX[::18^ ΢0d ~d,FG g,ß/zO @!R@f9Kt- R^yrQLnifOM lX3wFϦ`/M8M nd ټ~!jl0{v)S_Q*S`{1!=T4ۘAXk(ʂuk=Xk2sEI`tg%XHU<^<ã9dl`J Oh(b@kA$o'UM"4t0%TbnC翂GcH:+~܄yLWW0@W"u;HaS8@"G@A'!Ï<<5a b62RM ܕe3H09lԆ-0__pnIݫTđهaWZ ,= !]`oerSH C(w}A yHDA ]_?<%\Y5J{ ߽i`tjQ$4F)D2{.vGN}IzWO}i@ RO'`nB?Q'?7%7QAibO|iv&@&#"7-o`ȁ`|p`&Eɨ=yM `<0P E|32{9Q>q)x~s>Czr^T{3ޱYas Bi"ѝ0t z(Lx_$@R\ݯ֛OQMmCB>܁F82:P}ݴnVIexfHw@ޯ * scs; O l蘎Z n/=~@yLep Ob</ CxNt֯/D CO@qlS޿E=x aG׾43<]ϒaô xi\g< ;:xY/_}\F?ݡ$ HOPBiox>dY_# @_~S9X",ẠP0a<*g9xFb3) :2+(TP#O>$m- ~bL ds O&wY#$2M20G  _ày%<Dx]9O?1Z\\x,6x`RyZÔ/iCT*J!XҼ͡4`>AgT*'^x>yI0]Y@x3s}X<-߂7@-~@SdhGׂr<&{|/Aٚt$ 8*' ~<8' g,R?)4<yW kx0wRxt>]"ctXӅ/ćD'1G?x6 A8x* cTu\x6' 'V>*_4@X<[f\yTL&8WJX$:| cq Z̭_CΟF+',xp43 (Aݧ x0 Qh SSc8A_|`g߿Fp4x;洕dP%lsﻑ4)KENO3ӄnN֭=fw$L?<;>`P{U2'ȧI^C0Q< U6HAŰ7nxnܼ.<}oj~PF o M'8}}}[5kx9X.JfEv2F xWoH7C>ws1O5U||ͺλ$e_[Α* =Q7񗦩T"TF)|xya|m,^D^R;bnM&9K/@Qz?~8͟}G;T^ssyu UUR&|zE8b<|:?sȞݧ7IJ =eccgP~%DiN7T*S ?U3.笥݂1đ{<߿\?9-?NoX+mˡgtWy2yNce+]3*[938/CY6 Y%<`>`?X)ҸdU&2K*Nst{w} (<] 4=wy~&.`:3"KR%kÏ͡o1B@;=>k[7sy3X,0t}&351x1\^u&ce+ҏ`m7Cכ{Sy>>{_>TO)oOF_~ ^5 n悐A5'yirOj^V %*s}E!KfN bIz2/=?c /[:/%:L)Ϣ`z8!l?|c֘F~۱V:ǩ{8g/:? 8/Opǀ腷{Yϡmjnk9ߌ_5]K'|-m贳TyTt9ѪȑUAo8,jtt=g84zp<,_oL0)(vʓC]ǫw^K/<㜢u7"<7JK~>6Y[U .RSZ^?WLaM}{{gbз $ 'Tw~Hb?T'/G"gQ\͑sko1r0}Y+w۷>9ONp ATk#>o.`wr<_ߥ223(ym\/צ8lya<9Cy3U(\]_wxQԧ_z =0xP|&%<~Xj~@>usRaD { Lg/' }a6 @NW5n`5=hdWj>_^Û#issAz0s/b=(ȑAoy92oeęxO7^`x>G.tmK]o_wq9:c?^̪)13POb >_wzeCH`=|?,wBoXD '0mՋ9&KIhwHFx_yydқgKRpElqzBbJS]mB }At5*DYk3y=~}~L.?lx7n >O|{Ju!Ň[lT Ra?Y3k\VnIb^\#~֢:gv>m>Fg7"'2xy ʤӀiۦWw| o6u| AH}7?:gBc?q2䧇=n_LeeッJҚcU0+():Bw~A;m'&z!<nk?'f1/ɟ̼Cz^?+R5BƏ>s#ꫪF.3-6 *zπTԫQqEwYLb.P^YS,KFeӯteXdXi8H/~`~_#k>/œ\Sf~:f\U`Gؘ?8ۅyFU[wneԉm}O:v7 y}_E:+UlޱDd3m7u ڤ瞡iBɼPʫ U,t|1/)9Nlf:h8uf<_&+e/=.kU;sz~$YO{yE>i<_y^B0/8Y$/!O| x, a}L>ޢգ^XΏq}/4(yc۟/42ѕ~4QW$rFaޙV{qmDcx](?#itZ_L!TORW y`{x^OrxGN__=e;a迻'z[`1 @ij#x n_o,ȣ{[JOGtYaP'0-"`#qT#CO!QVǬ{*Z~/ T[ k011% B/}迯/v{!X rza  U2~H}02DZs/.!IVUIB{SB$Ӽl;eRQ#kя/_'綻j6]ₒ%$E8A':]#ѡx2B'=tjIqz~s˓W R``{ _L-ܖ[@jO U=$<3?Od^جOftKϠ'&3؟ oJḋ~y owj|_0o~U"-4j~*1s:QH< &yM00P*x-<q2YɓP|`h-B7p}7rx?,:}G?.Y|iMO|pl0|y(>̓ s":RK| ^GֳHJ rF6O7 Kfַ̄`ņaSyaoS4Pgy"z7&uEaGnyWC'uΡSP_yR`x|zmYK8:&Q+Iz%Yzң@Rx㕗m{NkUD(6I@>umJ]ppyy:-*#y·Wj0(0P;A_GWPx r}Czd bY|JW@ңɼ.Mֶi3xZ53suZK<+Hϻ*򛞷 śՍɿ'q?a'Bn_{v}~?Dgg/dmxߧi0fMxy:?{yb>(+{oF6{[o̬~2HPxm-:$zJj0O8rq G]{i0 >BL#_ykD⻽n0lS;E%KLnFFCCݴ&{%r<9}+g_?^ ϳ Gy^yT$Tޞj]& mb_?.l.Mn' f+ <Mfw3l+kUh{G@sėwU eA1L0dc%Qoqt/_>{yRzt4/n'#SgW2iSS6[_1#;\GPʮt!wo8:4Rz>(k'ǡg50go?<ͤOp~eg}E=O' _i<_jn@xPN`Olx B AϫK۰Wt*Mbmx*k~G|^sx1^Bygv670簗L$^_@BYD <7`Rq/@`)Toy}_r\dt{KC2W!SSM >̻u& 9=k y=&pu3Yx~i"^s+yV$9?_W)}2+>'(gmGA z}{ԹBB| ^yvƳUḨld7A~6:<?_w'K7/cx]_3Ol4wc c[Sd|^yWw<ȿ򖾩ΡK<2>(=f0G 8Owx*Ϡ-+dɯtY\y(PJGKU*צw^pmd˧J\Axsݺ=MKO9?k|}>$T, }8>Q1ȁK#@Tx+Op~dVe?FoxHUE۹5'#a"I26Ija!;a Ўmy| LLݶ4Ws1mI}|W;$xHsU?{wy5=oD_ Hdh~#YL-;5QK(>Q)~fTB$8 W6iARl͟GH:m]?z,r;/䋻`~z Ƴr&:>.C5@tSne'xP?e]LyC~mD3|ޙ ν xPp#|}0R m*b6_"G.YwH) R|)}y/N/y>/ ϯvB<°zz? A|׷)4or9x z}-0=xR-YY!_~j)ϗUjoU9+y4D&Gy0yӳ,x́rh!Ζ!@}k[gzd}?ٹOgk4syۅ7{7G ؽ^*ܣyPGnAmws?X[Ąyah LK?BwN؆gė[P\n@'_VktG,gwcCq~Op~*^:p'}jG~? Լ~Xny+^.MArlv?pwVSlV~.'q%k?jNk[}f멳yg@nsmkD*"u_R< Dck󨹔C<Əu+ 5kKԽ7gi$Ƨ~=@܃68n,;x\2ef9%G^^8G>NdBYgP;tDW^^=<xiT`wzSgP7??v!m%>YNiC_f^Sept/}rQ"!Z]S H{޷3?Y8z{,>#s||?@^i*-oQ}y.V 0? B*ٞ0"d)BC_N'}{x>0~:j<#Z/i3w??vV;n#޹;zU)Z"[}H05~0ϗ/q??xݏbN]GF$BsK :nrF_)FgHBwN Z<_];U39*>iŐ \nyG)ESOQN`]@ 슇o >OO/2Ù0f}Uy͖?5QS_"{.{Ï95v:wa z=u87YT(Q$E cACooߋaK,'j RwrRťЂAכ0ߧW3Q+=Ny=x+OW+ (Ǖ#rp_$'xyS3e"RVY_׼X##+wf& ڀq?#~-k1'Oo1Kkû]~F2#'\t7}Ye9A?z~BwY\L:)䕞~vT˘ ~&/ye^cGʗ4F',hd.|LSy}N)?l/g\q ޠghL]\V"kHOuQ6j']7A<dv.r}qa%A^%a\+~YU %Ï~F-4+ߋW<z?FA*-|lТ+[0}R0Gz}vKFF}>eW5n ߧDycÿX^b䈼o2ː[_`ռLyKX 8^PVhyEd_Os}{BcGAjUͷ6Yjk|6}]<^/ 'w% ll/ ;)z~}^RyN'e_z+ -KG9+k\aM'CF)4ҽ{P6߸bE=j~0UP~ͻ|85AD4* 㮭|/NS=xfX~{1gx+:gC!slyfihV̍~3ϳV i2w+w Ύk37# =UHwF~ .A{_ӕHE}\$OPx@cotd7oWQ:T{Œ*^)Z9 F Dtxr/'bgxq`-|܊G^a ՟OP.p#Z.@{bvK}xA|[QC/]d3cdzE8}'Z;BuF_8%S)Dq; Gq^ 3C_4)ooVZ`KG+@%yy帢 W;W|~q=r(f~(6LEzLmŞe/D5?z Yŕcf=XwU Y|F#Q$y.qC!㘗zt=s̳\ ⺂< si7 dپ-ݼoWtO:ay:7:=ߡy7!]2 wp˗Pox=Ƶb'3$ۃrʯh^27!&Q^&haÄȡzay8d}P}RD(I@Sm>O xGU'GXʨw}5xZݨaYϓRR!i2a{h= GVY'<(1?}$&;{G&~vͯyb@q2ow%=:DZ_b`}š ;WaI<쇜ϕGw8oy#9V*v4hpfsx=J_Ql<Yԑ?pg-xcVRs雁a~|oynHI :>6ΗvviDe%v?Natj[_H?LҤflM.z"5%?Eڻ}PS/_7lߚ죔3|%ȿdPh=|oc/ex:H?USگy=w4ĸ.V뉁,+do8\2;`PlE: z< ,wKB{Z"M#zԝ O#+ns>hOI)_*^W GП[ex\[-I SCAs5(w녏=$yl^bklOC| AƗfrZ}.Կn˥ϼ@"%+EP|7 PU5sp<͐!qa@ yK%#*mHϥrF=y_%V+H>Z4Ol+0+^gy}Tj0:<׿.≥>ݯypy4\L {X|G_-ڦF?/OK~~&%zzq=1~t E*A1 /-z5/OD<`9=xÓȔ Q4^ƆwI[T_ yvrDt<}<|[09ؼڷ4u<:kby%Euzv<9tϊgM!cN/oA?ߝ7ּ>>˙dܧ-`G~џy:ucuؼ?2Pq~/i-**BݯkkZoOˑ @2q,Al?o)C{!t{dXF?'2z~c l6B>g ѷ/?*2^0hxH+͝,?~fNW'wf׺~]¥g։bރg9OG&$p㑣>'ltKerˋQD p}q臀ec{[N}t}=[<ټWǧR8^găA@xzǰx^³2g`tib3rYmhNǹ~h*{;S˪y=D8F1jg_üj*}Dz[H=ֿXk PYkBn=ߑQk5!~D7GgV y#R2V< )vJ+Ԏi&Jt }qê"w M/X5S>2~0L!>YВ:/*ID1ϭ:8BO?" yԐQ\HЂhAV/gaک1<m2ͧ ػCx0U[ז%3Lcc<cVIōqL awiA '`_Dm?d*]zƆR:K^|T< 43V+2X^C\ׁz&c~_6O=O}Sg dzZ] }aXS ZahTA* b/$/oVTE2ԛi9!R.}l=@C>n)k.xx)Db5%)~pӒϣ W9zAƊYB_$t}>sky>cpDv!+xr4Ya=L>ݩ질$՟ޟ"[_|;}UkUC ߁D}@|V?@w-_J7)~)><\ZO?O}c#r'_2?tA {5Nzw=Q.U0C~eu#`?j 2A5χWN2쟰ڝ<u.]vNPQQgW`lV(7G >g' BžgCŻ4$?yᓗ[Ƴ7PBlm< 11R%P~Zx둇ݱxXzAz#_]svR[w=X5 Nؗ=KENP7 /:sft*MgA}p7Nrdmwz1.Jd8vZ/N}=ieȑD·O/߽ym0cZei_[s1'[)b4I(_d2I {r뤛{?n#X]) N@<#YS}KGNF{t@2Q}_otǧp?t Qux>hy?e/wqox7Sͩ5Σp2(mjXG^ b]4Ms;Do^:>,;@Pϣ<+^ۈ,[y =KG'~oqt +Dy>y}GYCC _!^90*Ч7<*<Y'(Y{YܮA?t78-  lC=+=۟OK O'@b3Csv+۾yM'3[`ބL>- N!T&Be<62+e%!9= ꡁ~JEgt\K)"ӁsaO5!Ѽ_f2 H,ڧw=$`=_K?]y.PcfN#zlѹZ}b}le귀똭֣:ҷZoYi]ǺTI8gy Cp'.EvFgC̻|Z=NE5ט,"ӿ,%~VO@}._}o6~19sMVJ vyʏq@&;5şȻp÷ߥ7Yw!n9~CֿKz5;S OD߯/ݪimQ9|[VCy㑀?QƱlTP?_&y1AzkLaK׹?AJzzVhIUViLg-޵˛ r<>~)_-|4/a!tQ[zkp,=GPI8#+{Qotކ^a'(<|LT=𢨌U".. "CdJ$Eg$/<{A[SyW]g?Ekc/$8t[<_@Wz̏xtb_y6l_]g?O {wVvۢc];{oasz;t$=ε>wi6L[rԗZG0OyWNfA~/zOv*QE%gdX!HaDyu0q(: W$RުZ<'>?M^8>G_c?yaZ!H AN}t(9ɺϦ/y9CU@e^_Ϻ+yvYx'r47Ty)FKJq>zEc7?fy V;x.m21tvԕógn0d[|J)k9ir8fEV+㮝C('^os+.ǢWz!G`D܏NEfڭo_~)z6 [{⸲QxйBY:u)ljlL:_%C:*[nf&>:*p>=n4~-Brԯ2Cim8/`[e\{$v:˟̫o}//'۟=ayL-_,oŕ?u. SE\a:odX^UJ~p~8?|X6c`az< Mx@:|C.:$ y8ul`:WO7<}mt޺u2Q,;V)</DdrflG r 2LkF<>[?IEgvvX_|y_&Z1S?4Us $CNzeJefp{NON!M2yN8ͻ/jQ=r$¡:{Q~/5x!^z,o!y})F33K9 y>{_4o<[|ĶD"ޟy,_㟪xO_}B P/FfQUMzSh}F`7ǽ?WIl_z|׳WA6Q]}KiO睁{,JFI˯DP=lTfEd}o暫?~ҵwLg `Q5@lCxyePP"EDNgJ&R_]9.)Gπ> 𼑑(UԞi顧1~Z9> c|s}%PP?xCQ z"~Y,;2+&בl{t[,GHd9=x4@{=oT˳D)ͱYxAqAM|U֯;"/»=|q' 㧺$"RAx`C? a{OȏE"ehoµe;9࿷H~Yex"FQ6owM[<O/Ǧ֗ kOGx/b\zFbq=to+ӱGngey;^: ߹~L6OQt@yK|.h13yt)>]#pv7|~Ed){.vz8=kxR zyr.z<m| @_nyDh0OU <D z0{ P_LR^ ד_ dz^UR-Ny޹N9+UQ1@|)l]?*]Kޯ/|c{.~99؟Zugr+Ou {#?cr_=xvXKĆ>З[{z\Jgn`y806Sl`}~w5Z0^yz>S)~v@_%r8,/*)\C,oŦWu.r v}p c-J3 m?L2;ziS_?]𾮒P#;Ly\?my≧ףX8ў=X)*EW׏Vx__G!Px7h)rTռ!~<="5^(+}=ŕ@d_,U9{ ? s4Uky0Bf<9vCF~c& oKhd}@1'ՉF|5_~|GM=#MFhX p\%\gb SE#ף>I]@vD(">$ǧzS?~2coc DzWDad7`&lqvw~Փ ń{=tC 2 uȿ_?ƒK=O { +.;g5`Fc;@Ǫ D CWvTo!spͽAWɝ`RHs*,~T<E+F{͚7ҥRGS!7Ώ6 xȎWߠr=Ek/:U@'/VKK?7a#0!#?wGԿ3ɧ:0xyg/0o) +Ha"tG.r5\2a >K}̓V؈A{{^Ry>@6!ۃ 'Y@/xnA#ݳPZVCק lJl%RE+=+Y*VGax:U nBlz5O +t{0ߪDnq{RV2~s̰hߍjq@`vCE\k^z˂֯~6jt-D /wL ǛN mַ!\ʐ'6>>;%>X_Tȧ:L WǠzKY}x>x-OK=65&sMߟ qDX}/'ׯ\B'0!﷝K.zݛ\~oo\;M4h}4π4[t93YēW+򜾼yy%q<_Qo`B ߜׇiQx'gGjR}1RI~Y'0/yJ~x^y×E~b?bOeAߞ7~dK ?vl]~zW^(ÿW D#3{ paO0Ih2TRaag䅸_2T?] AEwM7 -6gBNnPXfQ%?XÖɐ=gI*Tͯ9+.mn-磿k|nM/uz_UrN?~/r|ߪ {#5qdO p_O߂ؽAY΅G5ZdOFGxV!쉚,]sd\ԏrRTrY !lϳ_fN g!IOλurك<@~%{%WW+h1~1>߼7],%ɥ׼/pIX"y,=Ȼ8<&zZQÿ}ELt!1b̽?MN9U{t=nJ2,X o$ޟ |=a y=droA=OO?9߼AHtJF\S_xXpœ|έ{8*yx~@wlyurg%ԹB$.|1M z`]de@ީg喗IQ  -/\ _ >KWmN4]_\_4íA<}< tןַruM)V2HZ< Y+@*kM1gx"ׅ.s~E9Ccz2d-KlƊ7q8'ߡT/ٌK* M=9]@ޟMB=g~K֩?fͷ:~!nod}7/ȉOM)HPO3l3nrm =N=vkwBLBckΐ<9~"L-WU^z*ߨ6B%"yuCW<'jI4@~Stw zx XCI%J[Ѐc#WGR^X@bǛRG%z[Kտ50꡴ "zNj+ĞzZs"9h>y?)z>=o.."}SR/EG_4Ka$}kCFXs2k9ߚR  |d(; oVM&j}_ڠO7[-e珜#@|\\ǯ=>~|l%R ]Z[Ii$s)ʫOk^ p#3'ʻ̎f߾_@A5d}=h|Hikz~ ό3Ⱦ!{δ~EU .@Hίx"׍_1_p Y ~cm0jd~{:^PmƛC n qr?|9TKa f{ڮόx=pz 7YͶ–lyW+I_o#c+2$K}f*>׷ q jSw}}j`^ןMJf?[-P!^}лx& ¯myJ#"qj< У8[V̠a~[t :u3؋+6K4Ws~fR_۬7ؠG@=NzC*50Fxָ_zoy2=d8޾i&t/8F 1Nj Oyg^ot\"c_,2q:IL0]G*w?x܌pA_=*t _@m4A4yNQăm6E)_madAπ|5|k5a}Ȟ| cyx) ]@+BzӭQE?lZ&MY?߇JiZޔW+>(X"5bd}P?Gޮm]"CiKMm _%h2kXSOzcϞ+uPou:Qhl53黴aK !iAZ%0d:O&B7WR Ԡ]{6f?-޵ޡ_%Z. xo+Q)ӯ Z<-T!O, "@8ELÛw N$0pMK#_Z r}p]L|"=x,;o_#:ޗA:xmy3H?ەExW_f t7 E?4>x]M?x_Q]2^{ҳ_llrQx,, ~M1J^: OXWɟ+p%X o%)/I}l iWHUk?h/<dКFxK@y_b.غ{dŽ8%l|h>#݄ }7xP>Rky/탙w?z 'L 4zgL)/k 73yKYW`QqlfgT/o %/k4HSbס~O-GMο7m~jU)1 R)6EB6Kl?|*[<Nm(yÊR"0?8EoxI ϼRU9u57'3PO?ϸkuU]ɪ|7}<ʗG>_L2e_zc~|N&xi؅ ' [|740~KsX6Cn=@B\O:<|A<a^xP~J{'6j#*-j(:Un=Ob5?:ѵ4ڶK|"7WyIkQ멛!#bb+<}rR:vt=OZ7^p7[}}R{˳O]~#trlv_:a/ux\Gy8Z<<8Jq<$KPTd&8DC?rՅƍPOux1F4 +vd酫"L/OFp}<(\C^t ,=} ,]E]2?1_ XO]c4 篲j#B-]]aS?tx\Ie_k$W_r+]ùkI/>E`7MhdcOx +ݼ_xb(.o-Zm.j>62_̫u]Be+El ?_ #Bn?d~qx$b},:|;OeK\,xP~d7j_L*> #rF{O"vxiu;|| f)lw.q>9[tx>(1 qM],IxcNg o.nB ;XiB»U\5F^gR},<49D?]\T)Y]ڨ\LѦ]j4!,q~G<,A?|Dt9gAF7ZT)bD-DPz:Sn.|y8$:<NGB߯Iuͥ בg[B sW?拂Ojz:FپW)Ӽ`y]i/O d/Z2Lzk}_)wz'9녨k\GԋH8~3 krg[|" (S O/tkb #Lmdσ?xn8<|ḑoc<|>t52P'+b=h&]zЪbyx岲ʝdS՛x#;%2>ߎ 1G ݷR|/nTu[ :.4Tͻi 빉׼ ʢ/{pv@~d]wwYM@qfյ>vFHx%uR;VQ<?Kص:T2ˡLrSǀӌ%gG{AV9|.辖 ~7y!}}N>~u)\$锚_xⵢAJo_.TkKaoT(}ogNtwac2 Q@} cx#y=^JOMgfwW*92gƛKUH[c*d~qͣ|ؑOB hȿ8v2 ^Qu~z&1K.|ZNt@Z8 = }O8?YGGt~ɻor_+ǎ||M;!~&/4zbd~$vPGT] ݎ"޴xm{i6@B4Ԫ~al:V\8Ⱦ\bg]`{sv[m >oN~d֣G,k~^ 3W5 ?tnX~1E7]S䂨_O פ`x_7]îxޯ)1{͓ŃrH[=cŸخ 3_*GË{`Pxmx:&u/g>,ĦzvrzǗD,zxLgx9Ox9]B'obR&*gu݈Q<gti4.J}o);Sf9hĶ[B,$@w}Y d2T.f2#m͹=%Ł P_xl}wk<:xZE!oV}'B@\M_slv"VD}5mF q|^]3 5Z^?ňE 3 _gD'Ax =N#z( o- s5Ft//xUyu`j>_19=aO@qbPNeL1Ҿ,}&!ӸC]O ~Ό_txJ `TG_o]A"=_ܜW7?U+fg_8b/m5hqvxz )) ;e?K8}C! ;xZ"Ph>Gx* ӿ2tsϵLu)QC}eC7Ow}5~ufؑ'۞J \VLz| g(?Ox 70߃wz7`O-S8._00=;MOT ~8/7]i;6_jZt>x8"3N ;o4kC[,ow%;~Y 4xvRUg%"?:C1idS[3`>'7cP|7ԏԅx@ꍺ$~L\f:??' |w)t>O4)_p.|m&A) lwu;'|~<ڈCzZAp7Ş|[tV/D-Z og~xhz< z5|1lo]5O>Gy_3B53D{?OcROYɰ̯ie1}? NJYJn8ɩU*8޴\5nwww/Csx^>6Q#(rmZLԉ%`@~oMl'>-A>=z+}\Rgb~@}6wA؟%A2@y[xyqx~[m7wokʆ/NY?:y7rvW|-_~p86Oyuqz蔲uR?nWcޮD8Z,x~mWDZG{zHjeƑ:OY# ?;Rs荺zU:ɱ_響G4 `FYW ?>b컢Bo)#QA$&"29?#2e#Υz\bax3BF@h&'Eq ǧ iYo] ? zןX/8ϑj0FP=`*-XLs񟗿vxٿ 2aޟ/k5R7<}^>Wgp% rШo39mx@D")9n|ɌxyɄAy,EE5}~>ov. `>nO S^*4ֿW[_!~MP o1WwH)6< _5[R1C^H[] p1={Cu" ߟ»h̢_<zO;tǗ%vwg~NÖ'4Sid'aD!미$YLpHM"Qv.ZvűR.·nwQ?oAE91[_$2Hd|,i*dK3ҩ6C#873×"Geh?яb#4o=obgR<85yw'Qy9TizPAME嵸wåg[O43wj}`a13c:xE~)[l4ķkL.@}L;Rؚ+Yr!TYyK׬yy-$UJ2x=;DM /#SD疥\V?1:YJۭ5wo_yȘAyhWW0wm~ң}k@r)x\*"P.]} -"Wc#^bJJq=x𽬹?8kw@)yj<{ȟ^/T7I.~BZ GÇ?|z3{e'%,Ab]C/^{o!BOwTe\Dgld&FCoW1U/<~t>GcT5kD@ Gwwxo:K3,}ӭxdx\`<Ų|qͷ%Ъc'jփyr?pCK|W=gҪe%ұ(:;{lp-WU1o_`U`xFG=4!Y5һ_.tx_a1Ok?ېY^6S\lrӫ9 ɻ\-kē7F$?GgfY3w:vy=_K_y)VP5oZ-9.t#k\sء׳рGs7/,k(^WsJimm?eC ,F :(+J6DŦHt~vFw)-s W ӟyޥU'v:#ez_Aλ' ?{{[;QV| м Njq㱕d oTm:~(B!@hssM1 Pav3Ox.⬷@z%\_k8TI*kVO %,(nrsDZe^yYdu3?VGIeR=c;Ȩ9ݤDPy_X\X[ =Wy^z/X{}EΠw揶p%[t_g2-1O6<~"qT9h2"@={,^ZLʰlZ4gYbt}MϱtwnO7O}7'UVK~"y-1Kte2?k}?1q}p_Y2 2)  3,e"8;`=\i6A_&g!^g>,wp%hx8Ep<rnYz}\qxO.ϋDsx~&+#eݦ}y4tNfiYlLR {7v?ZP: o\78T }EV2>:R~8{>fX2WA^=!09w@yYjP73,L P'\<0C1G4)-^z{V%:b@\' 9{Mk}O ~5`r*"^T9yL`_]QSOvn0EW n_ڊ-xP}zqxiVy'-N/ #󚿟NWBԻm;׷FyA͑~v?uL>wvrry D'g6⩯xp=Fr;=h}sy@|Iz^˜[RSqz畒i~UR6_L!L,?)6οV<S~ bbx@K:M¨ -)nx^Zb<_O+YTi^`g /p>T eFARfx F[̆1= D$/Fם5%}:Z%~%d8@+΃_@ujųIE4?ZVf=9@7~gPr۴2\`x%/k5fNs>{bˉM".dRu;k]pw*@.OϿov|89 1- >k{|uqa6<Z*-pU;ݗO}DGw[f~> 1SwR<"$[wͦ/z^'IUN^^wE{^$9ܿUZ{&`;e *fSև`L_z.s39^=>l>r<0VQ=<<]\ ;+MTzT$ FޖF `Sy?aog|F*O7+-x_Sw5U j>\oS:GN"y/a ޴}#|ϽDz7#''Lȏ=&`Kg~/sxV2XygGt}}^ɣe* ^?g{3^GejbYԿyO( a˟L?\ּ#L坻m?wSMEy@I<=Nn;c0[ن nY_ˤ'?z?[0lE?bQ;Bϊ7bŢxps=Zc{(Q*U+uz<-/lYGoW#,l~~'8orwv4"=>x "ک`3^&s|U͸{@ #Ւ@|&myE y{ۨf\`>C<`Կm<<*T~l렊CƷLه8)/Z pD{yKz{z=M+2wHT'7:8i3G:BkdN5[rA=>i:gKɥm(b{)R"-nJqD0AeeU=7qoAz6HBC; V%lڀLQxs~)n!:szM2vl2=Fl7ޟcUqbJ2R5ٓ ~rLfAAs_nxXݔOO#oǯ[-WݟK' ϙ$@|l֟%3d O)HW9&}kS~ _f}.V9ެ'J ry|*?{<\‘@Yaį ֙@n .}}@"X-yp~%츂 'Z +-?1W}:x)t]-z7~;tϔϪ,]}w =r0)Ŧ4|C}$ `*A'_jrI{tA GZʤO }]X}_~wt;I Oev%/S /2*ӡe?65$E>yNn=xLqgׂGw=/a#OS?vn5ZQO򐉵B*^pS9K| Oxۣi]q Ve  z[y ߔ`H]3gK輛*KUO<[l(~]rAx^.H+M"340:DU5G|w91gt-/2V :{-~A%xV>|aryP:=+ed_ ^k1 _1j#R2͔eҫKɕBu4҂R,7=e!拡[ϓ)@}]I\DL9}vd8_(3QG== o#S\I4~HIY5%?x!~25$gofjV^>^DpawW ̓;^xB50^KJtJ&|-%",72C@R!KNUFys }}G%?݇1y}݌o)gIeAŸG{Y3["M߷}nc|A_7!!wz#wZQ(g:E<ςx5O>cfT։{dē #U ~^U\ PZeG1?UL@~9[}<0v:3?_ڌC0G%$y#ډ'u!18Lr=-俌!֧̏v?y \ aok## yZ=ro 'Gz}vMA棨3QE_KLW!" ;~wIx ;^c7^Kۣ~ S aEy~cʤJeaT^(.:AbX+o5kydz-o0We3sSy^Ɗ[k?R,e3O /ҏfAn̘`,?Rp5KYDXO?3)y`67pSyg]w}hgy;Dv%"YqlQF缅&@}td>ImJN^kVҹT/??:a/'\5"/7= ?q_y"y_02(l 1NjCRV_"|MMgyU'jػ^96~_ՔgV^ͫ'ּ'?gi  }Žo,y:o7:]=}_Py <&V(g aMD;rW. EgAAM F2J<7Isi빀/`ƫAz龮ϡ(S-oL5yIS@[c&(5_{sH!IxeU @6+"#8N 7@|żA<ѪbA*>yhmg w]睂 ˋbP *Oy^XbKto; <"~> ȈxzCKZQ[?B>_ )\13}|@~b6czC_gyωBw[πU>ؿî]J}zû8_yVy79>.ak.Ϟւf7[I3\6"fhu|Lx|ؠ2<^fEkԨQ" Q!{n"ċ<\H'}# 2y)..:NOL||Ѐ!@#f h{G_Ǐmx7瘴 .Uqy:. i\wR#lxdgeyN?Ҕz7|)eDDxɼSlHA1Wej7+o<2 X~/_,=| `M$J>b.<ȟx>Jgy}-y'SG*Ei4w7׷?33_ǒMt;LӀ} n\P}q#{A=7D `n8Sd-dPa="!xe/O G^KRt˺(%0qJ 7ϗ*%Fk{`?qwī~U"IRw|ޣ4H{nKwquxY31QS䖠8_b3T/<|+ٿ^4D>(Amw8/OY, ܯ"^jd5AP@_/Mnocy!-ܤ1cҟFd62>Տ!{y 3U64r hQw$gD[>oX= gZe3&{3^ @a! `_; ctszQyokfV?[\UZ$B+n *a]ޯkVp.t/] wJB{<j.gS4ᷜۂ?'xAx Ix+)Cw勰g(ͥ`㻑BgS^k:~|pRU\5x3nƧ RH#c^ -/SGjB^Ht)ѿK9ZdU#x>#A~G^-\`\Ls,/UÓ΃7@wD!gV{`{~G}.[ {!aғyX_9֋YTg@<`19NF|Aw?@ |Sk_8@IUAxӥF| ~@gK<=uG?:%R{,Z 3H\# [ _<[*<(^*Iꏜ>%9dW(ڝxx<@𖇻 <6;Ct'l5U{|_e .OuzU6[Ȟ_e΀ D^/*yƢ?h{\I@iyCU;<āFA+/,t=%yap䣬sC|ڑWTZ;Hf #&|Qs \ӈYi@rTg1nD6qelT0<a1xlf(u}f||s{~޷[} wy|>]z9` yy7R>ꗏߴ:og;" =RzCJzˉʞCkt }]^z:b!P@4UΩ;>9 O~wQҘLJ"[e>x&Ns DG=b>/Ƣ+TIzx;OL'Eߩx1LJQ:kF¦gB6/f07P?fеdw%w/[d~%XA=OKk&k=fyŤc2'jkqMeR?N[[Wyy1ɗ{<gҳ['<ٞ+gDlPcm̋n8\c-u3=*' 9-Ww㴘H~Pu_:Gyo޷ZdeUNr׈%3׼}E:ÆRK9b_s-/N-<g uBQ'^|O("??S_k}3;sQx޺{?h{qUZ6?_FZn6f DcԜXR*:t=⾕IuZ~'^:"Qn_- Oyak_T!c)4!Oj6 Z4,x1xl mw2Nq&SSwħn{2eOo?_(bu|{ИY)q=8 ҈c_-ЅB6p `Tc*Q=74S\cO狩2+= ٩ GR^\b5ػko,o-VFkԯK^u}|2)b;y+l Ÿ5s(ֹBV̔cSwk;!דl=^+vKfe_z >i9m@' 5+ ŴN#ɃI~ m| ٽC ~Hj"9 l|?JQ(^Y9˗YSg}Des%%(|VU"ˁJ]/}~]ija C{38}>}@}?^}G}녜cpXOwy?oAR˅*^)Gr63/q*y!J.=+my=[>-*u6_ xW/yу)u|*NUVL o7ZRy>B 3mO=Ͼ8 DXi|opWd*onQl7> gUYV[+#6=]gTװ<_!SC2eKͧ]Gl!5v|\suxvQyxl-PO׏ G$=~Y(tN"e!\ddB-9^,O,Cr B{o>yaVH_!Mkwcj4moLJLo~v>#_1̧1%y}br_}g1 wtP|@a5A^+ƾ?/3/jhߵZ Ğ3G9t QOx!/#&p?<)2|z©9r?y * U৓>{Wvx?PZMxu(K<>`l7]v a޷޷؎v>oY1_~Z3>[}tWt$^hEI0<6Az߯Jby=ކm؜ [p~.tOѽl)g?ho-E2 ?<[ ͚OO'[ZWHBѣ>B%J$;ޛ E^RrϥO9vdZD+씒O=ɱMo߽ܞ+|MY^?#M r1AsݥtհLC?VLz:@<2j귞~2uAԸy f(}۹xQ* 5-fTo~9W Vz~%_[POufDG5~2~R.G^E)MCy歗Wj7x(o|VF s2,vq0*|!;wc%4'yŠ?{϶<:LTC0Ix&!2u^\xm0g{KNdM d.r-uKVo_ 7uPC#oMfӰ}fP-"?(9_/m3cgÍ l//}/aº?w>Y~c>R-d,n/~-'G}净o};Mɼ_Lpx@meomtM i |E1: #)?m79\8`_!C oPV+пU٠|LT u-䵏?o[ծ9q~;|>{ʏ Ⱦ'|'|[ːkEc}xiS[c)c=EۯkKK u:~l졃O Gt/_{gOg:ԗvo.CӒ0/?9T2|:3ۀw0| Qπ G > ү4Μ|1߯u`u.gj{Gg"CxNum܌1)(l|TR;#ٜrk6|w־?] A!,[o؁?;{}#|(|l~mСQӎ/gІZ"wyޅRXWCڃ X <0_C~F‡ϯ·,rj;tW7aM㻪Fatyv+)B:_Ty]LDxVE.r>{ҔP_/6eYVׇdDCО?~ Val9,YU>*mi>,vwofa0;IG4P)h_kl"$i#ßzi].{Wě2(ڞiwkմ:S,ٔԩB3đ\*\wu7bt+l8W̿!]6bVFǛ)/zmwR|rjRp׌X̕7$^|OޮJ:r}slH2|+2z_a0bqIdV$'5d2BZ7ƙ^'R(n&Ar9zz)TJU VMdM,Y)C YҢ &-a>Nbk ~g602K\z}HR}&ޮr;5` 8m6ZXO9K\R+I&% GfXnxN~t//@% '7iWa'.Bж. ϒ&(d^4PgI4EE3=K>CkR!l?4LV[Ai?u862Z(td}$Si8q 偤8eTy8T(iVtI_.bbJ =skR:d4A2ɘjԐ,:qgT6HX)dK,yɐJs}0oO*4w`WK0#W#|@k]O1}smrJq%W*ְ E.Ł8~ep OТYB3=.Ī)@luWRQ'Q3q7-0 mDBc`.G+ /Rv{prv6Z;y,2tԚaMG^i[mӳ]K$Tˆ?7]?'7LAH|ZP[ԒR qPnŽ<֨eQAmќ%Oǚ\̷kb$gƀp*Qw+YQ !`vmҐ$iU0uk%X7֐̛LعybVwj*Y#2cEA#B* BLl:w[ca! կh49RU6[>a 6 a*j)h)tA.UK܉ؙ<4.L3[:Rc [&\ 1%J܃ERaQ[b@7 ̨@EtXPᷴ~kK{)y6+q!/r*/q/xWrǕ҇} {VRC'j6TH;Np$ M]Jm}yu?w.eCKV.s%_$1W~LW$.y1vm;ߥb2׎݃{ޞep٣stXzcM9aY?DG'9/||ߋ\{(]R,FTR}J)wbAуv?Q+WBvN?k~KphN?QՃ4C<9\Dg?% sយ1:`X_=Peh.X֡!(E"rsUsE aay;>%.aiUA&"q}\T(#YEb QfjU CXonsTw+| +@,_B-5妳h5MGάj˓e(]D}L|g{V86P.%0 +8x-@7wo7m6~GxooaG#^/Z0%6=X)k!1ťh|L'; *Ȓ^XHܢr}0 + 2qxAJd 0`0|<6M}@$ 8g 􀧷(sPK Bav'푟G|a1Ǎ#FyI^Qh}mt-+t7J:nDEE]a]ԯbDȣ% Pj482CGl_ h1qh,sAxČєPk\PAJ$ފ]^ϒdbTj7L7#I1i;ּ/Z{bNĉ@ Wn5\&p)ǩT0 bpx&-5L )&l)‹Ft E#Gj@idG56N9gC\`l쀥Q`\[BtaP:ь V.Fg)?_s=}y H#nžqxا KW: o1(7,)0SpGUi4,̍th5hoRI36h< MAx`ymXa9 Ҥ@OMXIfUinI2?8@3u5\ g ෯AlVA"/%z3o$E"§MB&~K7l[ !saH-@é-[&1lcУNoZƑ=kRbwJTɖLMnk{TɖD;5}=Orp%eY34иvn(7$>WN#-f|Bnv9!&#a_ŔMa%paf ׃g-??czjxlC":.01E]L/rZľF~Lh:NR*C)h)jū>-AtԶ,!YB3\(6wA, \ U♬RT@>qn%٪o;M$b g }U4E=]![\fGXp9Y%{vEt}jYbϭ}P+7hqWm)J/3ɫm p[H93'/ c! '(|Cz_g'ź}b ]haX%~/-)+1 «.JT_J+u-5HscزR5ŕNt)IMt־=u7z-oұb#N/7qz̸,kԘZƁq\YZ7n 8jgъ/ܮg&1H3}GRKO/⠉v&a-U?ҳnfڡǟu<鄲S[5Rllhil[So'Xh)Ag47ٴΖN{7TvW+Bh,Seljz;I42BɈ/?%ry. L حn5uHץ8YDAwr(pDjZt~W cq.J궬QDJd,2xJ˳h~޼¿ .DM&Δ3Z*CD dU>xG7!eˤvH90= YJ%+G]te'uB'!CS68>b/FlOW1hQ秘MPMޣjb )uv: M<#O_ UXn0)&%䱅/ 9mԼ&¾Pe\E77h'vuX)q|$5E\ØX{i:COmC\SmcO>Y&U{&stmY%R3&bI.ȗX˽G&;V4N Ѳ!9XA'!=fL{\l^2}љ24˕Ɓzv+c!HU.%RDNϒzcmrk|]w/΅x)y\:M"p@(!j_p i7i;N'K$4`cû\`?q1tuY*ɤ]P*oHR#%oͪ\(<>>NrKrfdFut?d(uJ: /3C*Nd^0|yG2H)!0Giu\m1F1Zve~B+P%]ɤ=Q&:fr[eER5;+GU%$;r5H*c3yr$TҼIPFG۪qd&&UTFV=nw /uLgd(C"eegK~v*8 sCM2웶~^z2(b2S[AWVhC1 -+.4ѷ -XD#їC|nH2靜*GEUFMK\7Y7-"KRQä&gŸXCI+wTcֲ|~,%rwt;%wT_['4Gsy/f~9gy٦x2]̭Ohy&&YtCo`uv/O֏rtU"e w$;:;%aSamz; &p< "`:\iċHf7ޞ>ar$&_Gr*{`pwgQ_1so1VmIIߔtsgzDEvM=Mґl~Co]W^*ܷv~Ql<7>c}߇7ƻ 8dѾEfcq_7IgJ 1Ay!. q!zq+ BdoٛIKbz;%bz/fZ nbxҘ} 5y 41BYVV v Nɵ^PrN-~PT@XfCˆY l4CВ /aN+UrN#eAl]b[ڗ/,W|H/=^[a&mTٶ .n$כN% GD=;=z-pRxJ98YX `q`1`O \asaŔzv\i$?w(x|߱σ&ӮEl}Cc|5Zy0Ӯ1%y7Ij:Z|'!bw-U5oNR5i*op_c@#q^?,rңNcۖs5Z=Q^(96j6(\jsy<3e~$>{xu?nW?b~GxƏO0T'V0:@%#,iww TEb6Y!!&Q="Û9Ĥ o Dq_`$/ sc-賞al/E<o_ȀG2TO&FB6uB^/mH|W} 5δ66E톃.Ώ3:ZX-]+`X5αf-fA55⭉up*uEi<@ueSy~ o'pDlvy3Yt4˯G|lG=T4R?u-t 1,_W\T)tW|k6:`o mHcR;$u*w[Zsm*=[JU__vTQ?4{f\'rrN`|OU?S+H;o;@,ѵ;b݌LƜ_'֧@C4IEGPZhè+OIGV7p>Jߓе3Ȣhz9(("G 2H?^Զ#(؞vi?7`p7 >>B;kB_pνvO;Pw`αN[[Aݨlf۬Ez}Lm3ȥJ6B +E, c`>˛/ka8QiD} @vgµ 6X=(d!o 0ėU]w. ~O ll^O/1utrok .}dz oI3Zu῎}LK0_ - (im|7׮`${=Kx/9Vjw=/=w>,U<޾" {C_@~kD~ݛ~z72/ _7QN})9Q(& NB*li s#it*i!<]#V_Q8|a=1gҼW_MhCne&[\o1*&-A0D T7IB<9Ƣ~G;V߃O,GQywlrao"ɬ|WGT!I]