Books build report for BioC 3.22

This page was generated on 2025-11-07 14:30 -0500 (Fri, 07 Nov 2025).

Approx. Package Snapshot Date/Time (git pull): 2025-11-07 06:30 -0500 (Fri, 07 Nov 2025)
See this page for all the Bioconductor builds and their schedule.

HostnameOSArch (*)R versionInstalled pkgs
nebbiolo2Linux (Ubuntu 24.04.3 LTS)x86_644.5.1 Patched (2025-08-23 r88802) -- "Great Square Root" 4902
lconwaymacOS 12.7.6 Montereyx86_644.5.1 Patched (2025-09-10 r88807) -- "Great Square Root" 4692
kjohnson3macOS 13.7.7 Venturaarm644.5.1 Patched (2025-09-10 r88807) -- "Great Square Root" 4638
Click on any hostname to see more info about the system (e.g. compilers)      (*) as reported by 'uname -p', except on Windows and Mac OS X

Package status is indicated by one of the following glyphs
  TIMEOUT  
INSTALL, BUILD or CHECK of package took more than 40, 300 or 5 minutes, respectively
  ERROR  
Bad DESCRIPTION file, or INSTALL or BUILD of package failed, or CHECK produced errors
  WARNINGS  
CHECK of package produced warnings
  OK  
INSTALL, BUILD or CHECK of package went OK
  NA  
INSTALL, BUILD or CHECK result is not available because of an anomaly in the Build System
skipped
CHECK of package was skipped because the BUILD step failed
Click on any glyph in the report below to access the detailed report.
Package propagation status is indicated by one of the following LEDs
YES YES: Package was propagated because it didn't previously exist or version was bumped
NO NO: Package was not propagated because of a problem (impossible dependencies, or version lower than what is already propagated)
UNNEEDED UNNEEDED: Package was not propagated because it is already in the repository with this version. A version bump is required in order to propagate it

A crossed-out package name indicates that the package is deprecated


QUICK STATSOS / ArchINSTALLBUILDCHECK
nebbiolo2Linux (Ubuntu 24.04.3 LTS) / x86_64
0011
0110
00010
lconwaymacOS 12.7.6 Monterey / x86_64
0011
029
0009
kjohnson3macOS 13.7.7 Ventura / arm64
0011
038
0008
Package 1/11HostnameOS / ArchINSTALLBUILDCHECK
BiocBookDemo 1.8.0  (landing page)
Jacques Serizay
git_last_commit: 1e407fa
git_last_commit_date: 2025-10-29 10:13:07 -0500
nebbiolo2Linux (Ubuntu 24.04.3 LTS) / x86_64  OK    OK    OK  UNNEEDED, same version is already published
lconwaymacOS 12.7.6 Monterey / x86_64  OK    OK    OK  
kjohnson3macOS 13.7.7 Ventura / arm64  OK    OK    OK  
Package 2/11HostnameOS / ArchINSTALLBUILDCHECK
csawBook 1.18.0  (landing page)
Aaron Lun
git_last_commit: fd1512f
git_last_commit_date: 2025-10-29 10:12:51 -0500
nebbiolo2Linux (Ubuntu 24.04.3 LTS) / x86_64  OK    OK    OK  UNNEEDED, same version is already published
lconwaymacOS 12.7.6 Monterey / x86_64  OK    OK    OK  
kjohnson3macOS 13.7.7 Ventura / arm64  OK    OK    OK  
Package 3/11HostnameOS / ArchINSTALLBUILDCHECK
OHCA 1.6.0  (landing page)
Jacques Serizay
git_last_commit: 66a78a0
git_last_commit_date: 2025-10-29 10:13:09 -0500
nebbiolo2Linux (Ubuntu 24.04.3 LTS) / x86_64  OK    OK    OK  NO, package depends on 'HiCool' which is not available
lconwaymacOS 12.7.6 Monterey / x86_64  OK    OK    OK  
kjohnson3macOS 13.7.7 Ventura / arm64  OK    OK    OK  
Package 4/11HostnameOS / ArchINSTALLBUILDCHECK
OSCA 1.20.0  (landing page)
Alan O'Callaghan
git_last_commit: c76d7be
git_last_commit_date: 2025-10-29 10:12:46 -0500
nebbiolo2Linux (Ubuntu 24.04.3 LTS) / x86_64  OK    OK    OK  UNNEEDED, same version is already published
lconwaymacOS 12.7.6 Monterey / x86_64  OK    OK    OK  
kjohnson3macOS 13.7.7 Ventura / arm64  OK    OK    OK  
Package 5/11HostnameOS / ArchINSTALLBUILDCHECK
OSCA.advanced 1.18.0  (landing page)
Ludwig Geistlinger
git_last_commit: 7ca63ba
git_last_commit_date: 2025-10-29 10:13:01 -0500
nebbiolo2Linux (Ubuntu 24.04.3 LTS) / x86_64  OK    OK    OK  NO, package depends on 'PCAtools' which is not available
lconwaymacOS 12.7.6 Monterey / x86_64  OK    OK    OK  
kjohnson3macOS 13.7.7 Ventura / arm64  OK    ERROR  skipped
Package 6/11HostnameOS / ArchINSTALLBUILDCHECK
OSCA.basic 1.18.0  (landing page)
Peter Hickey
git_last_commit: d99cbba
git_last_commit_date: 2025-10-29 10:12:53 -0500
nebbiolo2Linux (Ubuntu 24.04.3 LTS) / x86_64  OK    OK    OK  UNNEEDED, same version is already published
lconwaymacOS 12.7.6 Monterey / x86_64  OK    OK    OK  
kjohnson3macOS 13.7.7 Ventura / arm64  OK    OK    OK  
Package 7/11HostnameOS / ArchINSTALLBUILDCHECK
OSCA.intro 1.18.0  (landing page)
Ludwig Geistlinger
git_last_commit: eb57eb4
git_last_commit_date: 2025-10-29 10:12:56 -0500
nebbiolo2Linux (Ubuntu 24.04.3 LTS) / x86_64  OK    OK    OK  UNNEEDED, same version is already published
lconwaymacOS 12.7.6 Monterey / x86_64  OK    ERROR  skipped
kjohnson3macOS 13.7.7 Ventura / arm64  OK    ERROR  skipped
Package 8/11HostnameOS / ArchINSTALLBUILDCHECK
OSCA.multisample 1.18.0  (landing page)
Alan O'Callaghan
git_last_commit: 21ecf56
git_last_commit_date: 2025-10-29 10:13:04 -0500
nebbiolo2Linux (Ubuntu 24.04.3 LTS) / x86_64  OK    OK    OK  UNNEEDED, same version is already published
lconwaymacOS 12.7.6 Monterey / x86_64  OK    OK    OK  
kjohnson3macOS 13.7.7 Ventura / arm64  OK    OK    OK  
Package 9/11HostnameOS / ArchINSTALLBUILDCHECK
OSCA.workflows 1.18.0  (landing page)
Peter Hickey
git_last_commit: 4f48ec0
git_last_commit_date: 2025-10-29 10:12:59 -0500
nebbiolo2Linux (Ubuntu 24.04.3 LTS) / x86_64  OK    OK    OK  UNNEEDED, same version is already published
lconwaymacOS 12.7.6 Monterey / x86_64  OK    OK    OK  
kjohnson3macOS 13.7.7 Ventura / arm64  OK    OK    OK  
Package 10/11HostnameOS / ArchINSTALLBUILDCHECK
OSTA 1.0.1  (landing page)
Lukas M. Weber
git_last_commit: fd2effb
git_last_commit_date: 2025-11-04 17:46:40 -0500
nebbiolo2Linux (Ubuntu 24.04.3 LTS) / x86_64  OK    ERROR  skipped
lconwaymacOS 12.7.6 Monterey / x86_64  OK    ERROR  skipped
kjohnson3macOS 13.7.7 Ventura / arm64  OK    ERROR  skipped
Package 11/11HostnameOS / ArchINSTALLBUILDCHECK
SingleRBook 1.20.0  (landing page)
Aaron Lun
git_last_commit: 40a5f62
git_last_commit_date: 2025-10-29 10:12:48 -0500
nebbiolo2Linux (Ubuntu 24.04.3 LTS) / x86_64  OK    OK    OK  UNNEEDED, same version is already published
lconwaymacOS 12.7.6 Monterey / x86_64  OK    OK    OK  
kjohnson3macOS 13.7.7 Ventura / arm64  OK    OK    OK