Package: csawBook Version: 1.14.0 Command: /home/biocbuild/bbs-3.20-bioc/R/bin/R CMD INSTALL csawBook StartedAt: 2025-02-21 06:15:08 -0500 (Fri, 21 Feb 2025) EndedAt: 2025-02-21 06:15:42 -0500 (Fri, 21 Feb 2025) EllapsedTime: 34.3 seconds RetCode: 0 Status: OK