Package: csawBook Version: 1.14.0 Command: /home/biocbuild/bbs-3.20-bioc/R/bin/R CMD build --keep-empty-dirs --no-resave-data csawBook StartedAt: 2025-02-21 06:16:59 -0500 (Fri, 21 Feb 2025) EndedAt: 2025-02-21 07:43:38 -0500 (Fri, 21 Feb 2025) EllapsedTime: 5198.5 seconds RetCode: 0 Status: OK PackageFile: csawBook_1.14.0.tar.gz PackageFileSize: 2.868 MiB