Package: SingleRBook Version: 1.16.0 Command: /home/biocbuild/bbs-3.20-bioc/R/bin/R CMD INSTALL SingleRBook StartedAt: 2025-02-24 06:15:07 -0500 (Mon, 24 Feb 2025) EndedAt: 2025-02-24 06:15:38 -0500 (Mon, 24 Feb 2025) EllapsedTime: 30.6 seconds RetCode: 0 Status: OK