Package: SingleRBook Version: 1.16.0 Command: rm -rf SingleRBook.book && mkdir SingleRBook.book && /home/biocbuild/BBS/utils/deploy_book.py SingleRBook_1.16.0.tar.gz SingleRBook.book StartedAt: 2025-02-24 08:32:01 -0500 (Mon, 24 Feb 2025) EndedAt: 2025-02-24 08:32:03 -0500 (Mon, 24 Feb 2025) EllapsedTime: 2.1 seconds RetCode: 0 Status: OK DeployDestDir: SingleRBook.book Warnings: 0