Package: SingleRBook Version: 1.16.0 Command: /home/biocbuild/bbs-3.20-bioc/R/bin/R CMD build --keep-empty-dirs --no-resave-data SingleRBook StartedAt: 2025-02-24 06:18:23 -0500 (Mon, 24 Feb 2025) EndedAt: 2025-02-24 06:50:30 -0500 (Mon, 24 Feb 2025) EllapsedTime: 1927.3 seconds RetCode: 0 Status: OK PackageFile: SingleRBook_1.16.0.tar.gz PackageFileSize: 6.529 MiB