Package: OSCA.workflows Version: 1.14.0 Command: /home/biocbuild/bbs-3.20-bioc/R/bin/R CMD INSTALL OSCA.workflows StartedAt: 2025-02-24 06:15:07 -0500 (Mon, 24 Feb 2025) EndedAt: 2025-02-24 06:15:44 -0500 (Mon, 24 Feb 2025) EllapsedTime: 36.2 seconds RetCode: 0 Status: OK