Package: OSCA.workflows Version: 1.14.0 Command: rm -rf OSCA.workflows.book && mkdir OSCA.workflows.book && /home/biocbuild/BBS/utils/deploy_book.py OSCA.workflows_1.14.0.tar.gz OSCA.workflows.book StartedAt: 2025-02-24 08:31:59 -0500 (Mon, 24 Feb 2025) EndedAt: 2025-02-24 08:32:02 -0500 (Mon, 24 Feb 2025) EllapsedTime: 3.1 seconds RetCode: 0 Status: OK DeployDestDir: OSCA.workflows.book Warnings: 0