Package: OSCA.workflows Version: 1.14.0 Command: /home/biocbuild/bbs-3.20-bioc/R/bin/R CMD build --keep-empty-dirs --no-resave-data OSCA.workflows StartedAt: 2025-02-24 06:17:13 -0500 (Mon, 24 Feb 2025) EndedAt: 2025-02-24 07:25:36 -0500 (Mon, 24 Feb 2025) EllapsedTime: 4102.8 seconds RetCode: 0 Status: OK PackageFile: OSCA.workflows_1.14.0.tar.gz PackageFileSize: 17.24 MiB