Package: OSCA.workflows Version: 1.18.0 Command: /Library/Frameworks/R.framework/Resources/bin/R CMD INSTALL OSCA.workflows StartedAt: 2025-11-07 06:45:10 -0500 (Fri, 07 Nov 2025) EndedAt: 2025-11-07 06:45:25 -0500 (Fri, 07 Nov 2025) EllapsedTime: 14.8 seconds RetCode: 0 Status: OK