Package: OSCA.workflows Version: 1.18.0 Command: /Library/Frameworks/R.framework/Resources/bin/R CMD build --keep-empty-dirs --no-resave-data OSCA.workflows StartedAt: 2025-11-07 06:47:51 -0500 (Fri, 07 Nov 2025) EndedAt: 2025-11-07 07:16:08 -0500 (Fri, 07 Nov 2025) EllapsedTime: 1696.5 seconds RetCode: 0 Status: OK PackageFile: OSCA.workflows_1.18.0.tar.gz PackageFileSize: 22.61 MiB