Package: OSCA.multisample Version: 1.14.3 Command: /home/biocbuild/bbs-3.20-bioc/R/bin/R CMD build --keep-empty-dirs --no-resave-data OSCA.multisample StartedAt: 2025-02-24 06:16:59 -0500 (Mon, 24 Feb 2025) EndedAt: 2025-02-24 07:52:32 -0500 (Mon, 24 Feb 2025) EllapsedTime: 5732.7 seconds RetCode: 0 Status: OK PackageFile: OSCA.multisample_1.14.3.tar.gz PackageFileSize: 11.24 MiB