Package: OSCA.basic Version: 1.14.1 Command: /home/biocbuild/bbs-3.20-bioc/R/bin/R CMD INSTALL OSCA.basic StartedAt: 2025-02-24 06:15:44 -0500 (Mon, 24 Feb 2025) EndedAt: 2025-02-24 06:16:16 -0500 (Mon, 24 Feb 2025) EllapsedTime: 32.1 seconds RetCode: 0 Status: OK