Package: OSCA.basic Version: 1.14.1 Command: rm -rf OSCA.basic.book && mkdir OSCA.basic.book && /home/biocbuild/BBS/utils/deploy_book.py OSCA.basic_1.14.1.tar.gz OSCA.basic.book StartedAt: 2025-02-24 08:31:59 -0500 (Mon, 24 Feb 2025) EndedAt: 2025-02-24 08:32:02 -0500 (Mon, 24 Feb 2025) EllapsedTime: 2.2 seconds RetCode: 0 Status: OK DeployDestDir: OSCA.basic.book Warnings: 0