Package: OSCA.basic Version: 1.14.1 Command: /home/biocbuild/bbs-3.20-bioc/R/bin/R CMD build --keep-empty-dirs --no-resave-data OSCA.basic StartedAt: 2025-02-24 06:16:59 -0500 (Mon, 24 Feb 2025) EndedAt: 2025-02-24 07:39:23 -0500 (Mon, 24 Feb 2025) EllapsedTime: 4943.5 seconds RetCode: 0 Status: OK PackageFile: OSCA.basic_1.14.1.tar.gz PackageFileSize: 11.49 MiB