Package: OSCA.basic Version: 1.18.0 Command: /Library/Frameworks/R.framework/Resources/bin/R CMD INSTALL OSCA.basic StartedAt: 2025-11-07 06:45:54 -0500 (Fri, 07 Nov 2025) EndedAt: 2025-11-07 06:46:23 -0500 (Fri, 07 Nov 2025) EllapsedTime: 28.5 seconds RetCode: 0 Status: OK