Package: OSCA.basic Version: 1.18.0 Command: /Library/Frameworks/R.framework/Resources/bin/R CMD build --keep-empty-dirs --no-resave-data OSCA.basic StartedAt: 2025-11-07 06:47:13 -0500 (Fri, 07 Nov 2025) EndedAt: 2025-11-07 07:47:36 -0500 (Fri, 07 Nov 2025) EllapsedTime: 3623.0 seconds RetCode: 0 Status: OK PackageFile: OSCA.basic_1.18.0.tar.gz PackageFileSize: 13.36 MiB