Package: OSCA.advanced Version: 1.14.0 Command: /home/biocbuild/bbs-3.20-bioc/R/bin/R CMD INSTALL OSCA.advanced StartedAt: 2025-02-21 06:16:16 -0500 (Fri, 21 Feb 2025) EndedAt: 2025-02-21 06:16:54 -0500 (Fri, 21 Feb 2025) EllapsedTime: 37.8 seconds RetCode: 0 Status: OK