Package: OSCA.advanced Version: 1.14.0 Command: /home/biocbuild/bbs-3.20-bioc/R/bin/R CMD build --keep-empty-dirs --no-resave-data OSCA.advanced StartedAt: 2025-02-21 06:16:59 -0500 (Fri, 21 Feb 2025) EndedAt: 2025-02-21 08:31:34 -0500 (Fri, 21 Feb 2025) EllapsedTime: 8075.4 seconds RetCode: 0 Status: OK PackageFile: OSCA.advanced_1.14.0.tar.gz PackageFileSize: 21.63 MiB