Package: OSCA.advanced Version: 1.18.0 Command: /Library/Frameworks/R.framework/Resources/bin/R CMD INSTALL OSCA.advanced StartedAt: 2025-11-07 06:45:38 -0500 (Fri, 07 Nov 2025) EndedAt: 2025-11-07 06:45:53 -0500 (Fri, 07 Nov 2025) EllapsedTime: 15.1 seconds RetCode: 0 Status: OK