Package: OHCA Version: 1.2.0 Command: rm -rf OHCA.book && mkdir OHCA.book && /home/biocbuild/BBS/utils/deploy_book.py OHCA_1.2.0.tar.gz OHCA.book StartedAt: 2025-02-24 08:31:59 -0500 (Mon, 24 Feb 2025) EndedAt: 2025-02-24 08:32:01 -0500 (Mon, 24 Feb 2025) EllapsedTime: 1.3 seconds RetCode: 0 Status: OK DeployDestDir: OHCA.book Warnings: 0