Package: BiocBookDemo Version: 1.4.0 Command: /home/biocbuild/bbs-3.20-bioc/R/bin/R CMD build --keep-empty-dirs --no-resave-data BiocBookDemo StartedAt: 2025-02-21 06:16:59 -0500 (Fri, 21 Feb 2025) EndedAt: 2025-02-21 06:18:21 -0500 (Fri, 21 Feb 2025) EllapsedTime: 82.3 seconds RetCode: 1 Status: ERROR PackageFile: None PackageFileSize: NA