Package: BiocBookDemo Version: 1.4.0 Maintainer: Jacques Serizay MaintainerEmail: jacquesserizay at gmail.com git_url: https://git.bioconductor.org/packages/BiocBookDemo git_branch: RELEASE_3_20 git_last_commit: e4ce158 git_last_commit_date: 2024-10-29 10:08:05 -0500 (Tue, 29 Oct 2024)