Package: tximport Version: 1.35.0 Command: /home/rapidbuild/bbs-3.21-bioc-rapid/R/bin/R CMD INSTALL tximport StartedAt: 2025-02-05 06:06:50 -0500 (Wed, 05 Feb 2025) EndedAt: 2025-02-05 06:06:52 -0500 (Wed, 05 Feb 2025) EllapsedTime: 2.0 seconds RetCode: 0 Status: OK